<?xml version="1.0" encoding="UTF-8" standalone="no"?>
<metadata xml:lang="en">
<Esri>
<MetaID>{D8CC91A5-90B6-45C5-80D7-22FB6FAF432C}</MetaID>
<CreaDate>20060112</CreaDate>
<CreaTime>22293300</CreaTime>
<SyncOnce>FALSE</SyncOnce>
<DataProperties>
<lineage>
<Process Date="20060112" Name="Mosaic_1" Time="222933" ToolSource="C:\Program Files\ArcGIS\ArcToolbox\Toolboxes\Data Management Tools.tbx\Mosaic">Mosaic 'C:\1973\1973 Aerials\2918_NE.tif';'C:\1973\1973 Aerials\2918_NW.tif';'C:\1973\1973 Aerials\2918_SE.tif';'C:\1973\1973 Aerials\2918_SW.tif';'C:\1973\1973 Aerials\2919_NE.tif';'C:\1973\1973 Aerials\2919_NW.tif';'C:\1973\1973 Aerials\2919_SE.tif';'C:\1973\1973 Aerials\2919_SW.tif';'C:\1973\1973 Aerials\2920_NE.tif';'C:\1973\1973 Aerials\2920_NW.tif';'C:\1973\1973 Aerials\2920_SE.tif';'C:\1973\1973 Aerials\2920_SW.tif';'C:\1973\1973 Aerials\2921_NE.tif';'C:\1973\1973 Aerials\2921_NW.tif';'C:\1973\1973 Aerials\2921_SE.tif';'C:\1973\1973 Aerials\2921_SW.tif';'C:\1973\1973 Aerials\2922_NE.tif';'C:\1973\1973 Aerials\2922_NW.tif';'C:\1973\1973 Aerials\2922_SE.tif';'C:\1973\1973 Aerials\2922_SW.tif';'C:\1973\1973 Aerials\3017.tif';'C:\1973\1973 Aerials\3018_NE.tif';'C:\1973\1973 Aerials\3018_NW.tif';'C:\1973\1973 Aerials\3018_SE.tif';'C:\1973\1973 Aerials\3018_SW.tif';'C:\1973\1973 Aerials\3019_NE.tif';'C:\1973\1973 Aerials\3019_NW.tif';'C:\1973\1973 Aerials\3019_SE.tif';'C:\1973\1973 Aerials\3019_SW.tif';'C:\1973\1973 Aerials\3020_NE.tif';'C:\1973\1973 Aerials\3020_NW.tif';'C:\1973\1973 Aerials\3020_SE.tif';'C:\1973\1973 Aerials\3020_SW.tif';'C:\1973\1973 Aerials\3021_NE.tif';'C:\1973\1973 Aerials\3021_NW.tif';'C:\1973\1973 Aerials\3021_SE.tif';'C:\1973\1973 Aerials\3021_SW.tif';'C:\1973\1973 Aerials\3022_NE.tif';'C:\1973\1973 Aerials\3022_NW.tif';'C:\1973\1973 Aerials\3022_SE.tif';'C:\1973\1973 Aerials\3022_SW.tif';'C:\1973\1973 Aerials\3117_NE.tif';'C:\1973\1973 Aerials\3117_NW.tif';'C:\1973\1973 Aerials\3117_SE.tif';'C:\1973\1973 Aerials\3117_SW.tif';'C:\1973\1973 Aerials\3118_NE.tif';'C:\1973\1973 Aerials\3118_NW.tif';'C:\1973\1973 Aerials\3118_SE.tif';'C:\1973\1973 Aerials\3118_SW.tif';'C:\1973\1973 Aerials\3119_NE.tif';'C:\1973\1973 Aerials\3119_NW.tif';'C:\1973\1973 Aerials\3119_SE.tif';'C:\1973\1973 Aerials\3119_SW.tif';'C:\1973\1973 Aerials\3120_NE.tif';'C:\1973\1973 Aerials\3120_NW.tif';'C:\1973\1973 Aerials\3120_SE.tif';'C:\1973\1973 Aerials\3120_SW.tif';'C:\1973\1973 Aerials\3121_NE.tif';'C:\1973\1973 Aerials\3121_NW.tif';'C:\1973\1973 Aerials\3121_SE.tif';'C:\1973\1973 Aerials\3121_SW.tif';'C:\1973\1973 Aerials\3122_NE.tif';'C:\1973\1973 Aerials\3122_NW.tif';'C:\1973\1973 Aerials\3122_SE.tif';'C:\1973\1973 Aerials\3122_SW.tif';'C:\1973\1973 Aerials\3217_NE.tif';'C:\1973\1973 Aerials\3217_NW.tif';'C:\1973\1973 Aerials\3217_SE.tif';'C:\1973\1973 Aerials\3217_SW.tif';'C:\1973\1973 Aerials\3218_NE.tif';'C:\1973\1973 Aerials\3218_NW.tif';'C:\1973\1973 Aerials\3218_SE.tif';'C:\1973\1973 Aerials\3218_SW.tif';'C:\1973\1973 Aerials\3219_NE.tif';'C:\1973\1973 Aerials\3219_NW.tif';'C:\1973\1973 Aerials\3219_SE.tif';'C:\1973\1973 Aerials\3219_SW.tif';'C:\1973\1973 Aerials\3220_NE.tif';'C:\1973\1973 Aerials\3220_NW.tif';'C:\1973\1973 Aerials\3220_SE.tif';'C:\1973\1973 Aerials\3220_SW.tif';'C:\1973\1973 Aerials\3221_NE.tif';'C:\1973\1973 Aerials\3221_NW.tif';'C:\1973\1973 Aerials\3221_SE.tif';'C:\1973\1973 Aerials\3221_SW.tif';'C:\1973\1973 Aerials\3222_NE.tif';'C:\1973\1973 Aerials\3222_NW.tif';'C:\1973\1973 Aerials\3222_SE.tif';'C:\1973\1973 Aerials\3222_SW.tif';'C:\1973\1973 Aerials\3317_NE.tif';'C:\1973\1973 Aerials\3317_NW.tif';'C:\1973\1973 Aerials\3317_SE.tif';'C:\1973\1973 Aerials\3317_SW.tif';'C:\1973\1973 Aerials\3318_NE.tif';'C:\1973\1973 Aerials\3318_NW.tif';'C:\1973\1973 Aerials\3318_SE.tif';'C:\1973\1973 Aerials\3318_SW.tif';'C:\1973\1973 Aerials\3319_NE.tif';'C:\1973\1973 Aerials\3319_NW.tif';'C:\1973\1973 Aerials\3319_SE.tif';'C:\1973\1973 Aerials\3319_SW.tif';'C:\1973\1973 Aerials\3320_NE.tif';'C:\1973\1973 Aerials\3320_NW.tif';'C:\1973\1973 Aerials\3320_SE.tif';'C:\1973\1973 Aerials\3320_SW.tif';'C:\1973\1973 Aerials\3321_NE.tif';'C:\1973\1973 Aerials\3321_NW.tif';'C:\1973\1973 Aerials\3321_SE.tif';'C:\1973\1973 Aerials\3321_SW.tif';'C:\1973\1973 Aerials\3322_NE.tif';'C:\1973\1973 Aerials\3322_NW.tif';'C:\1973\1973 Aerials\3322_SE.tif';'C:\1973\1973 Aerials\3322_SW.tif';'C:\1973\1973 Aerials\3417_NE.tif';'C:\1973\1973 Aerials\3417_NW.tif';'C:\1973\1973 Aerials\3417_SE.tif';'C:\1973\1973 Aerials\3417_SW.tif';'C:\1973\1973 Aerials\3418_NE.tif';'C:\1973\1973 Aerials\3418_NW.tif';'C:\1973\1973 Aerials\3418_SE.tif';'C:\1973\1973 Aerials\3418_SW.tif';'C:\1973\1973 Aerials\3419_NE.tif';'C:\1973\1973 Aerials\3419_NW.tif';'C:\1973\1973 Aerials\3419_SE.tif';'C:\1973\1973 Aerials\3419_SW.tif';'C:\1973\1973 Aerials\3420_NE.tif';'C:\1973\1973 Aerials\3420_NW.tif';'C:\1973\1973 Aerials\3420_SE.tif';'C:\1973\1973 Aerials\3420_SW.tif';'C:\1973\1973 Aerials\3421_NE.tif';'C:\1973\1973 Aerials\3421_NW.tif';'C:\1973\1973 Aerials\3421_SE.tif';'C:\1973\1973 Aerials\3421_SW.tif';'C:\1973\1973 Aerials\3422_NE.tif';'C:\1973\1973 Aerials\3422_NW.tif';'C:\1973\1973 Aerials\3422_SE.tif';'C:\1973\1973 Aerials\3422_SW.tif' "C:\1973\1973 Aerials\2917.tif" LAST FIRST # # NONE 0 "C:\1973\1973 Aerials\2917.tif"</Process>
<Process Date="20230505" Time="142922" ToolSource="c:\program files\arcgis\pro\Resources\ArcToolbox\toolboxes\Data Management Tools.tbx\Clip">Clip 1973_Mosaic.tif "338895.674249983 3076452.68316192 378525.637694145 3118749.06257538" D:\ActiveFiles\Aerial_Image_Processing\Tampa_Aerials.gdb\Tampa_Aerial_1973 TampaBoundary_buffer1m 256 ClippingGeometry NO_MAINTAIN_EXTENT</Process>
<Process Date="20230519" Time="105559" ToolSource="c:\program files\arcgis\pro\Resources\ArcToolbox\Toolboxes\Data Management Tools.tbx\CopyMultiple">CopyMultiple "R:\Tampa_Aerials.gdb\Tampa_Aerial_1973 RasterDataset" E:\arcgisserver\data\Tampa_HistoricAerialViewer.gdb Tampa_Aerial_1973 "Tampa_Aerial_1973 RasterDataset Tampa_Aerial_1973 #"</Process>
<Process Date="20230523" Time="090020" ToolSource="c:\program files\arcgis\pro\Resources\ArcToolbox\toolboxes\Data Management Tools.tbx\CopyRaster">CopyRaster E:\Tampa_HistoricAerialViewer.gdb\Tampa_Aerial_1973 E:\Tampa_HistoricAerialViwer.gdb\Tampa_Aerial_1973 # # # NONE NONE # NONE NONE "Esri Grid format" NONE CURRENT_SLICE NO_TRANSPOSE</Process>
<Process Date="20230523" Time="095306" ToolSource="c:\program files\arcgis\pro\Resources\ArcToolbox\Toolboxes\Data Management Tools.tbx\Rename">Rename E:\arcgisserver\data\Tampa_HistoricAerialViewer.gdb\Tampa_Aerial_1973 E:\arcgisserver\data\Tampa_HistoricAerialViewer.gdb\Aerial_1973_TB RasterDataset</Process>
</lineage>
<itemProps>
<itemName Sync="TRUE">Tampa_Aerial_1973</itemName>
<imsContentType Sync="TRUE">002</imsContentType>
<nativeExtBox>
<westBL Sync="TRUE">338895.000000</westBL>
<eastBL Sync="TRUE">378526.000000</eastBL>
<southBL Sync="TRUE">3076452.000000</southBL>
<northBL Sync="TRUE">3118750.000000</northBL>
<exTypeCode Sync="TRUE">1</exTypeCode>
</nativeExtBox>
<itemLocation>
<linkage Sync="TRUE">file://\\C069996\E$\Tampa_HistoricAerialViwer.gdb</linkage>
<protocol Sync="TRUE">Local Area Network</protocol>
</itemLocation>
</itemProps>
<coordRef>
<type Sync="TRUE">Projected</type>
<geogcsn Sync="TRUE">GCS_North_American_1983</geogcsn>
<csUnits Sync="TRUE">Linear Unit: Meter (1.000000)</csUnits>
<projcsn Sync="TRUE">NAD_1983_UTM_Zone_17N</projcsn>
<peXml Sync="TRUE">&lt;ProjectedCoordinateSystem xsi:type='typens:ProjectedCoordinateSystem' xmlns:xsi='http://www.w3.org/2001/XMLSchema-instance' xmlns:xs='http://www.w3.org/2001/XMLSchema' xmlns:typens='http://www.esri.com/schemas/ArcGIS/3.1.0'&gt;&lt;WKT&gt;PROJCS[&amp;quot;NAD_1983_UTM_Zone_17N&amp;quot;,GEOGCS[&amp;quot;GCS_North_American_1983&amp;quot;,DATUM[&amp;quot;D_North_American_1983&amp;quot;,SPHEROID[&amp;quot;GRS_1980&amp;quot;,6378137.0,298.257222101]],PRIMEM[&amp;quot;Greenwich&amp;quot;,0.0],UNIT[&amp;quot;Degree&amp;quot;,0.0174532925199433]],PROJECTION[&amp;quot;Transverse_Mercator&amp;quot;],PARAMETER[&amp;quot;False_Easting&amp;quot;,500000.0],PARAMETER[&amp;quot;False_Northing&amp;quot;,0.0],PARAMETER[&amp;quot;Central_Meridian&amp;quot;,-81.0],PARAMETER[&amp;quot;Scale_Factor&amp;quot;,0.9996],PARAMETER[&amp;quot;Latitude_Of_Origin&amp;quot;,0.0],UNIT[&amp;quot;Meter&amp;quot;,1.0],AUTHORITY[&amp;quot;EPSG&amp;quot;,26917]]&lt;/WKT&gt;&lt;XOrigin&gt;-5120900&lt;/XOrigin&gt;&lt;YOrigin&gt;-9998100&lt;/YOrigin&gt;&lt;XYScale&gt;450445547.3910538&lt;/XYScale&gt;&lt;ZOrigin&gt;-100000&lt;/ZOrigin&gt;&lt;ZScale&gt;10000&lt;/ZScale&gt;&lt;MOrigin&gt;-100000&lt;/MOrigin&gt;&lt;MScale&gt;10000&lt;/MScale&gt;&lt;XYTolerance&gt;0.001&lt;/XYTolerance&gt;&lt;ZTolerance&gt;0.001&lt;/ZTolerance&gt;&lt;MTolerance&gt;0.001&lt;/MTolerance&gt;&lt;HighPrecision&gt;true&lt;/HighPrecision&gt;&lt;WKID&gt;26917&lt;/WKID&gt;&lt;LatestWKID&gt;26917&lt;/LatestWKID&gt;&lt;/ProjectedCoordinateSystem&gt;</peXml>
</coordRef>
</DataProperties>
<SyncDate>20230523</SyncDate>
<SyncTime>09002000</SyncTime>
<ModDate>20230523</ModDate>
<ModTime>09002000</ModTime>
</Esri>
<idinfo>
<native Sync="TRUE">Microsoft Windows XP Version 5.1 (Build 2600) Service Pack 2; ESRI ArcCatalog 9.1.0.780</native>
<descript>
<langdata Sync="TRUE">en</langdata>
<abstract>REQUIRED: A brief narrative summary of the data set.</abstract>
<purpose>REQUIRED: A summary of the intentions with which the data set was developed.</purpose>
</descript>
<citation>
<citeinfo>
<origin>REQUIRED: The name of an organization or individual that developed the data set.</origin>
<pubdate>REQUIRED: The date when the data set is published or otherwise made available for release.</pubdate>
<title Sync="TRUE">1973_Mosaic.tif</title>
<ftname Sync="TRUE">1973_Mosaic.tif</ftname>
<geoform Sync="TRUE">remote-sensing image</geoform>
<onlink Sync="TRUE">\\fccdrfiles2\gisshare$\Image\Aerials\Hills_1973\1973_Mosaic.tif</onlink>
</citeinfo>
</citation>
<timeperd>
<current>REQUIRED: The basis on which the time period of content information is determined.</current>
<timeinfo>
<sngdate>
<caldate>REQUIRED: The year (and optionally month, or month and day) for which the data set corresponds to the ground.</caldate>
</sngdate>
</timeinfo>
</timeperd>
<status>
<progress>REQUIRED: The state of the data set.</progress>
<update>REQUIRED: The frequency with which changes and additions are made to the data set after the initial data set is completed.</update>
</status>
<spdom>
<bounding>
<westbc Sync="TRUE">-82.763134</westbc>
<eastbc Sync="TRUE">-81.992121</eastbc>
<northbc Sync="TRUE">28.258457</northbc>
<southbc Sync="TRUE">27.491676</southbc>
</bounding>
<lboundng>
<leftbc Sync="TRUE">327032.000000</leftbc>
<rightbc Sync="TRUE">402002.000000</rightbc>
<bottombc Sync="TRUE">3042115.000000</bottombc>
<topbc Sync="TRUE">3126238.000000</topbc>
</lboundng>
</spdom>
<keywords>
<theme>
<themekt>REQUIRED: Reference to a formally registered thesaurus or a similar authoritative source of theme keywords.</themekt>
<themekey>REQUIRED: Common-use word or phrase used to describe the subject of the data set.</themekey>
</theme>
</keywords>
<accconst>REQUIRED: Restrictions and legal prerequisites for accessing the data set.</accconst>
<useconst>REQUIRED: Restrictions and legal prerequisites for using the data set after access is granted.</useconst>
<natvform Sync="TRUE">Raster Dataset</natvform>
</idinfo>
<dataIdInfo>
<envirDesc Sync="TRUE">Microsoft Windows 10 Version 10.0 (Build 19045) ; Esri ArcGIS 13.1.0.41833</envirDesc>
<dataLang>
<languageCode Sync="TRUE" value="eng"/>
<countryCode Sync="TRUE" value="USA"/>
</dataLang>
<idCitation>
<resTitle Sync="TRUE">Aerial_1973_TB</resTitle>
<presForm>
<PresFormCd Sync="TRUE" value="011"/>
</presForm>
</idCitation>
<spatRpType>
<SpatRepTypCd Sync="TRUE" value="002"/>
</spatRpType>
<dataExt>
<geoEle>
<GeoBndBox esriExtentType="native">
<westBL Sync="TRUE">327032</westBL>
<eastBL Sync="TRUE">402002</eastBL>
<northBL Sync="TRUE">3126238</northBL>
<southBL Sync="TRUE">3042115</southBL>
<exTypeCode Sync="TRUE">1</exTypeCode>
</GeoBndBox>
</geoEle>
</dataExt>
<geoBox esriExtentType="decdegrees">
<westBL Sync="TRUE">-82.763134</westBL>
<eastBL Sync="TRUE">-81.992121</eastBL>
<northBL Sync="TRUE">28.258457</northBL>
<southBL Sync="TRUE">27.491676</southBL>
<exTypeCode Sync="TRUE">1</exTypeCode>
</geoBox>
<dataExt>
<geoEle>
<GeoBndBox esriExtentType="search">
<exTypeCode Sync="TRUE">1</exTypeCode>
<westBL Sync="TRUE">-82.641218</westBL>
<eastBL Sync="TRUE">-82.233222</eastBL>
<northBL Sync="TRUE">28.188919</northBL>
<southBL Sync="TRUE">27.802994</southBL>
</GeoBndBox>
</geoEle>
</dataExt>
<idAbs/>
<idPurp/>
<idCredit/>
<resConst>
<Consts>
<useLimit/>
</Consts>
</resConst>
</dataIdInfo>
<metainfo>
<langmeta Sync="TRUE">en</langmeta>
<metstdn Sync="TRUE">FGDC Content Standards for Digital Geospatial Metadata</metstdn>
<metstdv Sync="TRUE">FGDC-STD-001-1998</metstdv>
<mettc Sync="TRUE">local time</mettc>
<metc>
<cntinfo>
<cntorgp>
<cntper>REQUIRED: The person responsible for the metadata information.</cntper>
<cntorg>REQUIRED: The organization responsible for the metadata information.</cntorg>
</cntorgp>
<cntaddr>
<addrtype>REQUIRED: The mailing and/or physical address for the organization or individual.</addrtype>
<city>REQUIRED: The city of the address.</city>
<state>REQUIRED: The state or province of the address.</state>
<postal>REQUIRED: The ZIP or other postal code of the address.</postal>
</cntaddr>
<cntvoice>REQUIRED: The telephone number by which individuals can speak to the organization or individual.</cntvoice>
</cntinfo>
</metc>
<metd Sync="TRUE">20070510</metd>
</metainfo>
<mdLang>
<languageCode Sync="TRUE" value="eng"/>
<countryCode Sync="TRUE" value="USA"/>
</mdLang>
<mdStanName Sync="TRUE">ISO 19115 Geographic Information - Metadata</mdStanName>
<mdStanVer Sync="TRUE">DIS_ESRI1.0</mdStanVer>
<mdChar>
<CharSetCd Sync="TRUE" value="004"/>
</mdChar>
<mdHrLv>
<ScopeCd Sync="TRUE" value="005"/>
</mdHrLv>
<mdHrLvName Sync="TRUE">dataset</mdHrLvName>
<distinfo>
<resdesc Sync="TRUE">Downloadable Data</resdesc>
<stdorder>
<digform>
<digtinfo>
<transize Sync="TRUE">0.000</transize>
<dssize Sync="TRUE">0.000</dssize>
</digtinfo>
</digform>
</stdorder>
</distinfo>
<distInfo>
<distributor>
<distorTran>
<onLineSrc>
<orDesc Sync="TRUE">002</orDesc>
<linkage Sync="TRUE">file://\\fccdrfiles2\gisshare$\Image\Aerials\Hills_1973\1973_Mosaic.tif</linkage>
<protocol Sync="TRUE">Local Area Network</protocol>
</onLineSrc>
<transSize Sync="TRUE">0.000</transSize>
</distorTran>
<distorFormat>
<formatName Sync="TRUE">Raster Dataset</formatName>
</distorFormat>
</distributor>
<distFormat>
<formatName Sync="TRUE">File Geodatabase Raster Dataset</formatName>
</distFormat>
</distInfo>
<spdoinfo>
<direct Sync="TRUE">Raster</direct>
<rastinfo>
<rasttype Sync="TRUE">Pixel</rasttype>
<rowcount Sync="TRUE">42298</rowcount>
<colcount Sync="TRUE">39631</colcount>
<rastxsz Sync="TRUE">1.000000</rastxsz>
<rastysz Sync="TRUE">1.000000</rastysz>
<rastbpp Sync="TRUE">8</rastbpp>
<vrtcount Sync="TRUE">1</vrtcount>
<rastorig Sync="TRUE">Upper Left</rastorig>
<rastcmap Sync="TRUE">FALSE</rastcmap>
<rastcomp Sync="TRUE">LZ77</rastcomp>
<rastband Sync="TRUE">1</rastband>
<rastdtyp Sync="TRUE">pixel codes</rastdtyp>
<rastplyr Sync="TRUE">TRUE</rastplyr>
<rastifor Sync="TRUE">FGDBR</rastifor>
</rastinfo>
</spdoinfo>
<spref>
<horizsys>
<cordsysn>
<geogcsn Sync="TRUE">GCS_North_American_1983</geogcsn>
<projcsn Sync="TRUE">NAD_1983_UTM_Zone_17N</projcsn>
</cordsysn>
<planar>
<planci>
<plance Sync="TRUE">row and column</plance>
<plandu Sync="TRUE">meters</plandu>
<coordrep>
<absres Sync="TRUE">1.000000</absres>
<ordres Sync="TRUE">1.000000</ordres>
</coordrep>
</planci>
</planar>
<geodetic>
<horizdn Sync="TRUE">North American Datum of 1983</horizdn>
<ellips Sync="TRUE">Geodetic Reference System 80</ellips>
<semiaxis Sync="TRUE">6378137.000000</semiaxis>
<denflat Sync="TRUE">298.257222</denflat>
</geodetic>
</horizsys>
</spref>
<refSysInfo>
<RefSystem>
<refSysID>
<identCode Sync="TRUE" code="26917">NAD_1983_UTM_Zone_17N</identCode>
<idCodeSpace Sync="TRUE">EPSG</idCodeSpace>
<idVersion Sync="TRUE">6.11(3.0.1)</idVersion>
</refSysID>
</RefSystem>
</refSysInfo>
<spatRepInfo>
<GridSpatRep>
<numDims Sync="TRUE">2</numDims>
<cellGeo>
<CellGeoCd Sync="TRUE" value="002"/>
</cellGeo>
<tranParaAv Sync="TRUE">1</tranParaAv>
<axDimProps>
<Dimen>
<dimName>
<DimNameTypCd Sync="TRUE" value="002"/>
</dimName>
<dimSize Sync="TRUE">74970</dimSize>
<dimResol>
<value Sync="TRUE">1</value>
<uom>
<UomLength>
<uomName Sync="TRUE">Meter</uomName>
<conversionToISOstandardUnit Sync="TRUE">1 Meter = 1 Meter(s)</conversionToISOstandardUnit>
</UomLength>
</uom>
</dimResol>
</Dimen>
<Dimen>
<dimName>
<DimNameTypCd Sync="TRUE" value="001"/>
</dimName>
<dimSize Sync="TRUE">84123</dimSize>
<dimResol>
<value Sync="TRUE">1</value>
<uom>
<UomLength>
<uomName Sync="TRUE">Meter</uomName>
<conversionToISOstandardUnit Sync="TRUE">1 Meter = 1 Meter(s)</conversionToISOstandardUnit>
</UomLength>
</uom>
</dimResol>
</Dimen>
</axDimProps>
</GridSpatRep>
</spatRepInfo>
<eainfo>
<detailed Name="VAT_Tampa_Aerial_1973">
<enttyp>
<enttypl Sync="TRUE">VAT_Tampa_Aerial_1973</enttypl>
<enttypt Sync="TRUE">Table</enttypt>
<enttypc Sync="TRUE">256</enttypc>
</enttyp>
<attr>
<attrlabl Sync="TRUE">ObjectID</attrlabl>
<attalias Sync="TRUE">OBJECTID</attalias>
<attrtype Sync="TRUE">OID</attrtype>
<attwidth Sync="TRUE">4</attwidth>
<atprecis Sync="TRUE">0</atprecis>
<attscale Sync="TRUE">0</attscale>
<attrdef Sync="TRUE">Internal feature number.</attrdef>
<attrdefs Sync="TRUE">ESRI</attrdefs>
<attrdomv>
<udom Sync="TRUE">Sequential unique whole numbers that are automatically generated.</udom>
</attrdomv>
</attr>
<attr>
<attrlabl Sync="TRUE">Value</attrlabl>
<attalias Sync="TRUE">Value</attalias>
<attrtype Sync="TRUE">Integer</attrtype>
<attwidth Sync="TRUE">4</attwidth>
<atprecis Sync="TRUE">0</atprecis>
<attscale Sync="TRUE">0</attscale>
</attr>
<attr>
<attrlabl Sync="TRUE">Count</attrlabl>
<attalias Sync="TRUE">Count</attalias>
<attrtype Sync="TRUE">Double</attrtype>
<attwidth Sync="TRUE">8</attwidth>
<atprecis Sync="TRUE">0</atprecis>
<attscale Sync="TRUE">0</attscale>
</attr>
</detailed>
</eainfo>
<mdDateSt Sync="TRUE">20230523</mdDateSt>
</metadata>
