<?xml version="1.0" encoding="UTF-8" standalone="no"?>
<metadata>
<idinfo>
<citation>
<citeinfo>
<origin>Aerial Cartographics of America (ACA)</origin>
<pubdate>unknown</pubdate>
<title>Hillsborough Countywide Digital Orthophotography 2015-2016</title>
<geoform>remote-sensing image</geoform>
<serinfo>
<sername>Hillsborough Countywide Digital Orthophotography 2015-2016</sername>
<issue>13108.10-ACA</issue>
</serinfo>
</citeinfo>
</citation>
<descript>
<abstract>The purpose of this project is to furnish aerial photographs to the Hillsborough County property appraisers for the year 2015-2016 to ensure that all real property within the county is listed on the tax roll. ACA is delivering digital orthophotography products to support the development and analysis of the tax roll for Hillsborough County, FL. This data set consists of 6" resolution, color images covering Hillsborough County, FL. An orthoimage is remotely sensed image data in which displacement
of features in the image caused by terrain relief and sensor orientation have been mathematically corrected. Orthoimagery combines the image characteristics of a photograph with the geometric qualities of a map. The design accuracy is estimated not to exceed 2.5 feet at the 95% confidence level (1.44 feet RMSE) There is no image overlap between adjacent files. The projected coordinate system is State Plane NAD83 FL West US Survey Feet.</abstract>
<purpose>Imagery is used by Hillshorough County to support the development and analysis of the tax roll for the project area in year 2015-2016.</purpose>
</descript>
<timeperd>
<timeinfo>
<rngdates>
<begdate>20151219</begdate>
<enddate>20160118</enddate>
</rngdates>
</timeinfo>
<current>Ground conditions</current>
</timeperd>
<status>
<progress>COMPLETE</progress>
<update>AS NEEDED</update>
</status>
<spdom>
<bounding>
<westbc>-82.65550101</westbc>
<eastbc>-82.04993244</eastbc>
<northbc>28.18509186</northbc>
<southbc>27.63344310</southbc>
</bounding>
</spdom>
<keywords>
<theme>
<themekt>none</themekt>
<themekey>raster</themekey>
<themekey>Aerial Imagery</themekey>
</theme>
<place>
<placekt>CIESIN Indexing Vocabulary</placekt>
<placekey>NORTH AMERICA</placekey>
<placekey>United States of America</placekey>
<placekey>Florida</placekey>
<placekey>Hillsborough</placekey>
</place>
</keywords>
<accconst>none</accconst>
<useconst>None. However, users should be aware that temporal changes may have occurred since this dataset was collected and that some
parts of the data may no longer represent actual surface conditions. Users should not use the data for critical applications without a full awareness of the limitations of the data.</useconst>
<ptcontac>
<cntinfo>
<cntorgp>
<cntorg>Aerial Cartographics of America, Inc.</cntorg>
</cntorgp>
<cntaddr>
<addrtype>mailing and physical</addrtype>
<address>423 S Keller Road #300</address>
<city>Orlando</city>
<state>FL</state>
<postal>32810</postal>
</cntaddr>
<cntvoice>407-937-0965</cntvoice>
</cntinfo>
</ptcontac>
<datacred>Aerial Cartographics of America, Inc.</datacred>
<native>Microsoft Windows 7 Version 6.1 (Build 7601) Service Pack 1; Esri ArcGIS 10.1.0.3035</native>
</idinfo>
<dataqual>
<attracc>
<attraccr>See Horizontal and Vertical Accuracy reports. Radiometry is verified by visual inspection of the digital orthophoto. Slight systematic radiometric differences may exist between adjacent orthoimage files; these are due primarily to differences in source image capture dates and sun angles along flight lines. These differences can be observed in an image's general lightness or darkness when it is compared to adjacent orthoimage file coverages. Tonal balancing may be performed over a group of images during the mosaicking process which may serve to lighten or darken adjacent images for better color tone matching.
Photography was not be acquired when haze, smoke, or dust obscure the ground, or when clouds or cloud shadows could appear on any photograph.
Airborne GPS and Inertial Measurement (ABGBS/IMU data) supports the accuracy specifications identified for this project. Photogrammetric control for the imagery was limited to airborne GPS/IMU data acquired during imagery collection. Geo-referencing of the imagery was accomplished via direct referencing using post processed airborne global positioning systems (ABGPS) and inertial measurement unit (IMU) data, and includes aero-triangulation without additional targeted ground control; however, the geo­referencing solution resulted in a horizontal positional accuracy of 2.5 feet or better at the 95% confidence interval (Accuracy = 3.06 * RMSE1i so RMSE1i = 1.44 feet) as specified in the Federal Geodetic Data Committee (FGDC) Geospatial Positioning Accuracy Standards, Part 3: National Standard for Spatial Data Accuracy (FGDC-STD-007.3-1998). No independent accuracy assessment checkpoints were surveyed or used to test the horizontal accuracy of the orthophotography.
This project has a maximum ground sampling distance (GSD) of 6.0 inches. Each of the four (4) bands of the imagery have been delivered as geometrically correct, pan-sharpened, 8 bit data (i.e. Level-3) without the application of color modifications. All work was accomplished under the supervision of a surveyor licensed by the State of Florida as a Professional Surveyor and Mapper (PSM) pursuant to Chapter 472, Florida Statutes and a Certified Photogrammetrist (CP) as recognized by the American Society for Photogrammetry and Remote Sensing (ASPRS). The photogrammetrist and surveyor made maximum utilization of their professional experience to produce superior results.</attraccr>
</attracc>
<logic>Aerial Flight Data - Upon completion of the flight portion of the project, the data collected by the Applanix Position and Orientation System (POSAV 510) was transferred to processing stations to solve for positional information. The IMU information was then merged with the ABGPS through time stamps to provide for the orientation of the aircraft. The data was processed through a Kalman filter to achieve a Smoothed Best Estimate of Trajectory (SBET). This gave an accurate position and orientation of the aircraft at the time of camera exposure. QC checks show that no duplicate images exist and that raw images cover and extend beyond project area. There were no reported Geometric misalignments between any of the bands. Image Processing - The raw Ultracam Eagle (Level-0) data and associated GPS and IMU data for each mission is processed. Each roll is carefully evaluated for project coverage, checked for clouds, cloud shadows, sharpness, smoke, sun glint or haze and acceptance as part of our QA/QC procedure and then edited for annotation and production. The film is scanned and converted to a digital format.
Image Data Processing - Using UltraMap, software, the imagery was processed from Level-0 data to Level-2 to assemble all of the files. Level-2 was processed to 24-bit Level-3 RGB, and radiometry was verified by visual inspection of the digital photo and adjusted when necessary. Tonal balancing may be performed over a group of images during the mosaicing process which may serve to lighten or darken adjacent images for better color tone matching. Analytical Triangulation - Utilizing the ground survey points, control densification was accomplished by performing a analytical triangulation process using Inpho software. This created additional pass points on the proper horizontal datum as well as confirming the location of the aerial photography to the survey control. Orthorectification - The imagery was orthorectified to the DEM data set using adjusted EO positions from the analytical triangulation. The resulting images were then mosaicked and color balanced utilizing Inpho Orthovista software. Positional checks are made once the preliminary ortho is created. Overpasses are checked for possible smearing and positional accuracy to known survey control is also checked and confirmed to be within the required specifications. Edge matching of orthos is checked for mis-matches utilizing the Orthovista Seamline editing program. Orthophotos are visually inspected for completeness to ensure that no gaps or image misplacements exist within and between adjacent images. These images are derived by mosaicking multiple images to ensure complete coverage of the project area.</logic>
<complete>Orthoimages are visually inspected for completeness to ensure that no gaps or image misplacements exist within and between adjacent images. These images are derived by mosaicking multiple images to ensure complete coverage. Source imagery is cloud free.</complete>
<posacc>
<horizpa>
<horizpar>Orthophotogrammetric Mapping will meet or exceed a verified horizontal accuracy of 2.5 feet at the 95% confidence interval (1.44 feet RMSE) as specified in the FGDC Geospatial Positioning Accuracy Standards, Part 3: National Standard for Spatial Data Accuracy (NSSDA). All ground coordinates are units of U.S. survey feet. Horizontal data referenced to the State Plane Coordinate System, Florida West Zone 0902, North American Datum of 1983(NAD83). Angular units reported in decimal degrees.</horizpar>
<qhorizpa>
<horizpav>0.757 feet per NSSDA</horizpav>
<horizpae>Meets or Exceeds National Standard for Spatial Data Accuracy of 2.5 feet or 1.44 feet RMSE</horizpae>
</qhorizpa>
</horizpa>
<vertacc>
<vertaccr>No vertical accuracy analysis required for the orthophotos</vertaccr>
</vertacc>
</posacc>
<lineage>
<srcinfo>
<srccite>
<citeinfo>
<origin>Aerial Cartographics of America, Inc.</origin>
<pubdate>2013</pubdate>
<title>Digital Elevation Model</title>
</citeinfo>
</srccite>
<typesrc>Download</typesrc>
<srctime>
<timeinfo>
<rngdates>
<begdate>20130101</begdate>
<enddate>20130101</enddate>
</rngdates>
</timeinfo>
<srccurr>ground condition</srccurr>
</srctime>
<srccitea>DEM</srccitea>
<srccontr>Digital Elevation Model</srccontr>
</srcinfo>
<procstep>
<procdesc>Image Specifications:
The Project requires blue, green, red, and near infrared digital imagery of the geographic extent of all areas of interest. The resulting imagery must be 99.9% free of smoke, clouds, and cloud shadows. In addition, all portions of the project will require orthographic image products. Sensor
All imagery was collected using a Microsoft digital aerial sensor: Eagle with a 100mm lens.
Flight Season
The flight season was from December 1, 2015 through January, 18 2016 for all areas. In addition, the imagery was acquired while the solar elevation angle was between 25° and 55° above the horizon.
The project has a maximum ground sampling distance (GSD) of 6.0 inches. Radiometric Resolution &amp; Band Stacking
Each of the four (4) bands of the imagery were delivered as geometrically correct, pan-sharpened, 8 bit data (i.e. Level-3) without the application of color modifications. The four (4) color bands was delivered as a four (4) band stack (RGBI) set of Level-3 images. Histogram Adjustment
Within fifteen (15) working days of the completion of acquisition of a particular area, post-processed imagery was provided to determine the color appearance of the imagery. This “reference imagery”, once agreed upon, was the basis for color balance for that specific area of the project. The goal of the histogram modifications was to maximize scene contrast for the best possible discrimination of natural features while minimizing variability in scene reflectance caused by differences in sun angle, atmospheric conditions, path length and angle, sensor design, etc.
Orthographic Imagery
ACA produced orthographic imagery for all portions of the project. All orthographic imagery was delivered as a seamless, 4-band stack (RGBI) set of orthographic images quantized at 8 bits per color channel (32 bits total), and have a GSD of at least 6 inches (6"). SPATIAL DATA SPECIFICATIONS
The photogrammetric control is adequate to support the accuracy specifications identified for this project. Photogrammetric control for the imagery is limited to airborne GPS/IMU data acquired during imagery collection. ACA submitted
a report that documents the procedures used for the spatial data products, including the horizontal and vertical ABGPS control, (i.e. aircraft positioning systems), aero-triangulation procedures and results, and the orthographic imagery for this project. Geo-referencing of the imagery was accomplished via direct referencing using post processed airborne global positioning systems (ABGPS) and inertial measurement unit (IMU) data and/or include aero-triangulation with or without additional targeted ground control; however, the ABGPS solution yielded a horizontal accuracy of 0.437 ft. (RMSEr) and 0.757 ft. (Accuracy) as specified in the Federal Geodetic Data Committee (FGDC) Geospatial Positioning Accuracy Standards, Part 3: National Standard for Spatial Data Accuracy (FGDC-STD-007.3-1998). No independent accuracy assessment checkpoints were surveyed or used to test the horizontal accuracy of the orthophotography.
ABGPS &amp; IMU
The simultaneous acquisition of imagery, ABGPS and IMU data was required for this project. In addition, all ABGPS and IMU data was
post-processed and corrected in accordance with simultaneous GPS observations collected at a fixed geodetic reference station that is located within 60 km of the aircraft at all times and records positional information at an epoch of 1 second or faster. The fixed reference stations used are Continuously Operated Reference Stations (CORS) or part of the Florida Permanent Reference Network (FPRN).
Geodetic data utilized in this project has been documented in the National Geodetic Survey (NGS) Digital Survey Data (DSDATA) format or an alternative database format containing equivalent attributes for each location.</procdesc>
<procdate>20160210</procdate>
</procstep>
</lineage>
<cloud>0%</cloud>
</dataqual>
<spref>
<horizsys>
<planar>
<planci>
<plance>coordinate pair</plance>
<coordrep>
<absres>0.0003280833333333334</absres>
<ordres>0.0003280833333333334</ordres>
</coordrep>
<plandu>Foot_US</plandu>
</planci>
</planar>
<geodetic>
<horizdn>D_North_American_1983</horizdn>
<ellips>GRS 1980</ellips>
<semiaxis>6378137.0</semiaxis>
<denflat>298.257222101</denflat>
</geodetic>
</horizsys>
</spref>
<distinfo>
<distrib>
<cntinfo>
<cntorgp>
<cntorg>Hillsborough County Property Appraiser</cntorg>
</cntorgp>
<cntaddr>
<addrtype>Physical</addrtype>
<address>16th Floor County Center 601 East Kennedy Blvd.</address>
<city>Tampa</city>
<state>Florida</state>
<postal>33602</postal>
</cntaddr>
<cntaddr>
<addrtype>Mailing</addrtype>
<address>16th Floor County Center 601 East Kennedy Blvd.</address>
<city>Tampa</city>
<state>FL</state>
<postal>33602</postal>
</cntaddr>
<cntvoice>813-276-8910</cntvoice>
</cntinfo>
</distrib>
<resdesc>Hard Drive</resdesc>
<distliab>Translation of files to formats other than those described here is the sole responsibility of individuals downloading the data.</distliab>
<stdorder>
<digform>
<digtinfo>
<formname>Digital Raster Imagery</formname>
</digtinfo>
<digtopt>
<offoptn>
<offmedia>Digital media</offmedia>
<recfmt>ECW</recfmt>
</offoptn>
</digtopt>
</digform>
<fees>unknown</fees>
</stdorder>
</distinfo>
<metainfo>
<metd>20160425</metd>
<metc>
<cntinfo>
<cntorgp>
<cntorg>Aerial Cartographics of America, Inc.</cntorg>
<cntper>Natalie Harris</cntper>
</cntorgp>
<cntpos>Senior Orthophotography and GIS Project Manager</cntpos>
<cntaddr>
<addrtype>423 S Keller Rd. #300</addrtype>
<city>Orlando</city>
<state>FL</state>
<postal>32810</postal>
<country>US</country>
</cntaddr>
<cntvoice>407-937-0965</cntvoice>
</cntinfo>
</metc>
<metstdn>Content Standard for Digital Geospatial Metadata</metstdn>
<metstdv>FGDC-STD-001-1998</metstdv>
<mettc>local time</mettc>
</metainfo>
<dataIdInfo>
<envirDesc Sync="TRUE">Microsoft Windows 10 Version 10.0 (Build 19045) ; Esri ArcGIS 13.1.0.41833</envirDesc>
<dataLang>
<languageCode Sync="TRUE" value="eng"/>
<countryCode Sync="TRUE" value="USA"/>
</dataLang>
<idCitation>
<resTitle Sync="TRUE">Aerial_2016_TB</resTitle>
<presForm>
<PresFormCd Sync="TRUE" value="011"/>
</presForm>
</idCitation>
<spatRpType>
<SpatRepTypCd Sync="TRUE" value="002"/>
</spatRpType>
<dataExt>
<geoEle>
<GeoBndBox esriExtentType="search">
<exTypeCode Sync="TRUE">1</exTypeCode>
<westBL Sync="TRUE">-82.637701</westBL>
<eastBL Sync="TRUE">-82.236712</eastBL>
<northBL Sync="TRUE">28.184895</northBL>
<southBL Sync="TRUE">27.805884</southBL>
</GeoBndBox>
</geoEle>
</dataExt>
<idAbs/>
<idPurp/>
<idCredit/>
<resConst>
<Consts>
<useLimit/>
</Consts>
</resConst>
</dataIdInfo>
<mdLang>
<languageCode Sync="TRUE" value="eng"/>
<countryCode Sync="TRUE" value="USA"/>
</mdLang>
<mdChar>
<CharSetCd Sync="TRUE" value="004"/>
</mdChar>
<Esri>
<DataProperties>
<itemProps>
<itemName Sync="TRUE">Tampa_Aerial_2016_clip_2feet</itemName>
<itemLocation>
<linkage Sync="TRUE">file://\\C069996\E$\Tampa_HistoricAerialViwer.gdb</linkage>
<protocol Sync="TRUE">Local Area Network</protocol>
</itemLocation>
<imsContentType Sync="TRUE">002</imsContentType>
<nativeExtBox>
<westBL Sync="TRUE">450734.500000</westBL>
<eastBL Sync="TRUE">579646.500000</eastBL>
<southBL Sync="TRUE">1262664.000001</southBL>
<northBL Sync="TRUE">1400000.000001</northBL>
<exTypeCode Sync="TRUE">1</exTypeCode>
</nativeExtBox>
</itemProps>
<RasterProperties>
<General>
<PixelDepth Sync="TRUE">8</PixelDepth>
<HasColormap Sync="TRUE">FALSE</HasColormap>
<CompressionType Sync="TRUE">ECW</CompressionType>
<NumBands Sync="TRUE">3</NumBands>
<Format Sync="TRUE">ECW</Format>
<HasPyramids Sync="TRUE">TRUE</HasPyramids>
<SourceType Sync="TRUE">continuous</SourceType>
<PixelType Sync="TRUE">unsigned integer</PixelType>
<NoDataValue Sync="TRUE"/>
</General>
</RasterProperties>
<coordRef>
<type Sync="TRUE">Projected</type>
<geogcsn Sync="TRUE">GCS_North_American_1983</geogcsn>
<csUnits Sync="TRUE">Linear Unit: Foot_US (0.304801)</csUnits>
<projcsn Sync="TRUE">NAD_1983_StatePlane_Florida_West_FIPS_0902_Feet</projcsn>
<peXml Sync="TRUE">&lt;ProjectedCoordinateSystem xsi:type='typens:ProjectedCoordinateSystem' xmlns:xsi='http://www.w3.org/2001/XMLSchema-instance' xmlns:xs='http://www.w3.org/2001/XMLSchema' xmlns:typens='http://www.esri.com/schemas/ArcGIS/3.1.0'&gt;&lt;WKT&gt;PROJCS[&amp;quot;NAD_1983_StatePlane_Florida_West_FIPS_0902_Feet&amp;quot;,GEOGCS[&amp;quot;GCS_North_American_1983&amp;quot;,DATUM[&amp;quot;D_North_American_1983&amp;quot;,SPHEROID[&amp;quot;GRS_1980&amp;quot;,6378137.0,298.257222101]],PRIMEM[&amp;quot;Greenwich&amp;quot;,0.0],UNIT[&amp;quot;Degree&amp;quot;,0.0174532925199433]],PROJECTION[&amp;quot;Transverse_Mercator&amp;quot;],PARAMETER[&amp;quot;False_Easting&amp;quot;,656166.6666666665],PARAMETER[&amp;quot;False_Northing&amp;quot;,0.0],PARAMETER[&amp;quot;Central_Meridian&amp;quot;,-82.0],PARAMETER[&amp;quot;Scale_Factor&amp;quot;,0.9999411764705882],PARAMETER[&amp;quot;Latitude_Of_Origin&amp;quot;,24.33333333333333],UNIT[&amp;quot;Foot_US&amp;quot;,0.3048006096012192],AUTHORITY[&amp;quot;EPSG&amp;quot;,2237]]&lt;/WKT&gt;&lt;XOrigin&gt;-17791300&lt;/XOrigin&gt;&lt;YOrigin&gt;-41645400&lt;/YOrigin&gt;&lt;XYScale&gt;137249422.94257641&lt;/XYScale&gt;&lt;ZOrigin&gt;-100000&lt;/ZOrigin&gt;&lt;ZScale&gt;10000&lt;/ZScale&gt;&lt;MOrigin&gt;-100000&lt;/MOrigin&gt;&lt;MScale&gt;10000&lt;/MScale&gt;&lt;XYTolerance&gt;0.0032808333333333331&lt;/XYTolerance&gt;&lt;ZTolerance&gt;0.001&lt;/ZTolerance&gt;&lt;MTolerance&gt;0.001&lt;/MTolerance&gt;&lt;HighPrecision&gt;true&lt;/HighPrecision&gt;&lt;WKID&gt;102659&lt;/WKID&gt;&lt;LatestWKID&gt;2237&lt;/LatestWKID&gt;&lt;/ProjectedCoordinateSystem&gt;</peXml>
</coordRef>
<lineage>
<Process Date="20230505" Time="142758" ToolSource="c:\program files\arcgis\pro\Resources\ArcToolbox\toolboxes\Data Management Tools.tbx\Resample">Resample "2016 ECW Mosaic.ecw" D:\ActiveFiles\Aerial_Image_Processing\Tampa_Aerials.gdb\Tampa_Aerial_2016 "1 1" Nearest</Process>
<Process Date="20230508" Time="072603" ToolSource="c:\program files\arcgis\pro\Resources\ArcToolbox\toolboxes\Data Management Tools.tbx\Clip">Clip Tampa_Aerial_2016 "450734.581085235 1262665.16887574 579644.844053871 1400397.12023873" D:\ActiveFiles\Aerial_Image_Processing\Tampa_Aerials.gdb\Tampa_Aerial_2016_clip TampaBoundary_buffer1m 256 ClippingGeometry NO_MAINTAIN_EXTENT</Process>
<Process Date="20230519" Time="072736" ToolSource="c:\program files\arcgis\pro\Resources\ArcToolbox\Toolboxes\Data Management Tools.tbx\CopyMultiple">CopyMultiple "R:\Tampa_Aerials.gdb\Tampa_Aerial_2016_clip RasterDataset" E:\arcgisserver\data\Tampa_HistoricAerialViewer.gdb Tampa_Aerial_2016_clip "Tampa_Aerial_2016_clip RasterDataset Tampa_Aerial_2016_clip #"</Process>
<Process Date="20230522" Time="163355" ToolSource="c:\program files\arcgis\pro\Resources\ArcToolbox\toolboxes\Data Management Tools.tbx\Resample">Resample Tampa_Aerial_2016_clip E:\Tampa_HistoricAerialViewer.gdb\Tampa_Aerial_2016_clip_2feet "2 2" Nearest</Process>
<Process Date="20230523" Time="090620" ToolSource="c:\program files\arcgis\pro\Resources\ArcToolbox\toolboxes\Data Management Tools.tbx\CopyRaster">CopyRaster E:\Tampa_HistoricAerialViewer.gdb\Tampa_Aerial_2016_clip_2feet E:\Tampa_HistoricAerialViwer.gdb\Tampa_Aerial_2016_clip_2feet # # # NONE NONE # NONE NONE "Esri Grid format" NONE CURRENT_SLICE NO_TRANSPOSE</Process>
<Process Date="20230523" Time="095328" ToolSource="c:\program files\arcgis\pro\Resources\ArcToolbox\Toolboxes\Data Management Tools.tbx\Rename">Rename E:\arcgisserver\data\Tampa_HistoricAerialViewer.gdb\Tampa_Aerial_2016_clip_2feet E:\arcgisserver\data\Tampa_HistoricAerialViewer.gdb\Aerial_2016_TB RasterDataset</Process>
</lineage>
</DataProperties>
<SyncDate>20230523</SyncDate>
<SyncTime>09062000</SyncTime>
<ModDate>20230523</ModDate>
<ModTime>09062000</ModTime>
</Esri>
<distInfo>
<distFormat>
<formatName Sync="TRUE">File Geodatabase Raster Dataset</formatName>
</distFormat>
</distInfo>
<mdHrLv>
<ScopeCd Sync="TRUE" value="005"/>
</mdHrLv>
<mdHrLvName Sync="TRUE">dataset</mdHrLvName>
<spatRepInfo>
<Georect>
<cellGeo>
<CellGeoCd Sync="TRUE" value="002"/>
</cellGeo>
<numDims Sync="TRUE">2</numDims>
<tranParaAv Sync="TRUE">1</tranParaAv>
<chkPtAv Sync="TRUE">0</chkPtAv>
<cornerPts>
<pos Sync="TRUE">444999.000000 1200000.000000</pos>
</cornerPts>
<cornerPts>
<pos Sync="TRUE">444999.000000 1400000.000000</pos>
</cornerPts>
<cornerPts>
<pos Sync="TRUE">640000.000000 1400000.000000</pos>
</cornerPts>
<cornerPts>
<pos Sync="TRUE">640000.000000 1200000.000000</pos>
</cornerPts>
<centerPt>
<pos Sync="TRUE">542499.500000 1300000.000000</pos>
</centerPt>
<axisDimension type="002">
<dimSize Sync="TRUE">390002</dimSize>
<dimResol>
<value Sync="TRUE" uom="Foot_US">0.500000</value>
</dimResol>
</axisDimension>
<axisDimension type="001">
<dimSize Sync="TRUE">400000</dimSize>
<dimResol>
<value Sync="TRUE" uom="Foot_US">0.500000</value>
</dimResol>
</axisDimension>
<ptInPixel>
<PixOrientCd Sync="TRUE" value="001"/>
</ptInPixel>
</Georect>
</spatRepInfo>
<contInfo>
<ImgDesc>
<contentTyp>
<ContentTypCd Sync="TRUE" value="001"/>
</contentTyp>
<covDim>
<Band>
<dimDescrp Sync="TRUE">Band_1</dimDescrp>
<bitsPerVal Sync="TRUE">8</bitsPerVal>
<valUnit>
<UOM type="length"/>
</valUnit>
</Band>
<Band>
<dimDescrp Sync="TRUE">Band_2</dimDescrp>
<bitsPerVal Sync="TRUE">8</bitsPerVal>
<valUnit>
<UOM type="length"/>
</valUnit>
</Band>
<Band>
<dimDescrp Sync="TRUE">Band_3</dimDescrp>
<bitsPerVal Sync="TRUE">8</bitsPerVal>
<valUnit>
<UOM type="length"/>
</valUnit>
</Band>
</covDim>
</ImgDesc>
</contInfo>
<mdDateSt Sync="TRUE">20230523</mdDateSt>
<refSysInfo>
<RefSystem>
<refSysID>
