<?xml version="1.0" encoding="UTF-8" standalone="no"?>
<metadata xml:lang="en">
<Esri>
<CreaDate>20230504</CreaDate>
<CreaTime>13561600</CreaTime>
<ArcGISFormat>1.0</ArcGISFormat>
<SyncOnce>FALSE</SyncOnce>
<DataProperties>
<itemProps>
<itemName Sync="TRUE">Tampa_Aerial_2021_clip_2feet</itemName>
<imsContentType Sync="TRUE">002</imsContentType>
<nativeExtBox>
<westBL Sync="TRUE">450734.500000</westBL>
<eastBL Sync="TRUE">579646.500000</eastBL>
<southBL Sync="TRUE">1262664.000001</southBL>
<northBL Sync="TRUE">1400000.000001</northBL>
<exTypeCode Sync="TRUE">1</exTypeCode>
</nativeExtBox>
<itemLocation>
<linkage Sync="TRUE">file://\\C069996\E$\Tampa_HistoricAerialViwer.gdb</linkage>
<protocol Sync="TRUE">Local Area Network</protocol>
</itemLocation>
</itemProps>
<coordRef>
<type Sync="TRUE">Projected</type>
<geogcsn Sync="TRUE">GCS_NAD_1983_2011</geogcsn>
<csUnits Sync="TRUE">Linear Unit: Foot_US (0.304801)</csUnits>
<projcsn Sync="TRUE">NAD_1983_2011_StatePlane_Florida_West_FIPS_0902_Ft_US</projcsn>
<peXml Sync="TRUE">&lt;ProjectedCoordinateSystem xsi:type='typens:ProjectedCoordinateSystem' xmlns:xsi='http://www.w3.org/2001/XMLSchema-instance' xmlns:xs='http://www.w3.org/2001/XMLSchema' xmlns:typens='http://www.esri.com/schemas/ArcGIS/3.1.0'&gt;&lt;WKT&gt;PROJCS[&amp;quot;NAD_1983_2011_StatePlane_Florida_West_FIPS_0902_Ft_US&amp;quot;,GEOGCS[&amp;quot;GCS_NAD_1983_2011&amp;quot;,DATUM[&amp;quot;D_NAD_1983_2011&amp;quot;,SPHEROID[&amp;quot;GRS_1980&amp;quot;,6378137.0,298.257222101]],PRIMEM[&amp;quot;Greenwich&amp;quot;,0.0],UNIT[&amp;quot;Degree&amp;quot;,0.0174532925199433]],PROJECTION[&amp;quot;Transverse_Mercator&amp;quot;],PARAMETER[&amp;quot;False_Easting&amp;quot;,656166.6666666665],PARAMETER[&amp;quot;False_Northing&amp;quot;,0.0],PARAMETER[&amp;quot;Central_Meridian&amp;quot;,-82.0],PARAMETER[&amp;quot;Scale_Factor&amp;quot;,0.9999411764705882],PARAMETER[&amp;quot;Latitude_Of_Origin&amp;quot;,24.33333333333333],UNIT[&amp;quot;Foot_US&amp;quot;,0.3048006096012192],AUTHORITY[&amp;quot;EPSG&amp;quot;,6443]]&lt;/WKT&gt;&lt;XOrigin&gt;-17791300&lt;/XOrigin&gt;&lt;YOrigin&gt;-41645400&lt;/YOrigin&gt;&lt;XYScale&gt;137249422.94257641&lt;/XYScale&gt;&lt;ZOrigin&gt;-100000&lt;/ZOrigin&gt;&lt;ZScale&gt;10000&lt;/ZScale&gt;&lt;MOrigin&gt;-100000&lt;/MOrigin&gt;&lt;MScale&gt;10000&lt;/MScale&gt;&lt;XYTolerance&gt;0.0032808333333333331&lt;/XYTolerance&gt;&lt;ZTolerance&gt;0.001&lt;/ZTolerance&gt;&lt;MTolerance&gt;0.001&lt;/MTolerance&gt;&lt;HighPrecision&gt;true&lt;/HighPrecision&gt;&lt;WKID&gt;103023&lt;/WKID&gt;&lt;LatestWKID&gt;6443&lt;/LatestWKID&gt;&lt;/ProjectedCoordinateSystem&gt;</peXml>
</coordRef>
<lineage>
<Process Date="20230504" Time="141155" ToolSource="c:\program files\arcgis\pro\Resources\ArcToolbox\toolboxes\Data Management Tools.tbx\Clip">Clip FLHILL20-FALL_6in_Combined_Delivery.ecw "450734.573034767 1262665.15154584 579644.836021852 1400397.10292755" D:\ActiveFiles\Aerial_Image_Processing\Aerial_Image_Processing.gdb\FLHILL20FALL_6in_Clipped TampaBoundary_buffer1m 256 ClippingGeometry NO_MAINTAIN_EXTENT</Process>
<Process Date="20230505" Time="093025" ToolSource="c:\program files\arcgis\pro\Resources\ArcToolbox\toolboxes\Data Management Tools.tbx\Resample">Resample FLHILL20FALL_6in_Clipped D:\ActiveFiles\Aerial_Image_Processing\Aerial_Image_Processing.gdb\FLHILL20FALL_6in_Clipped_1ft "1 1" Nearest</Process>
<Process Date="20230505" Time="120339" ToolSource="c:\program files\arcgis\pro\Resources\ArcToolbox\toolboxes\Data Management Tools.tbx\CopyMultiple">CopyMultiple "D:\ActiveFiles\Aerial_Image_Processing\Aerial_Image_Processing.gdb\FLHILL20FALL_6in_Clipped_1ft RasterDataset" D:\ActiveFiles\Aerial_Image_Processing\Tampa_Aerials.gdb FLHILL20FALL_6in_Clipped_1ft "FLHILL20FALL_6in_Clipped_1ft RasterDataset FLHILL20FALL_6in_Clipped_1ft #"</Process>
<Process Date="20230509" Time="072505" ToolSource="c:\program files\arcgis\pro\Resources\ArcToolbox\toolboxes\Data Management Tools.tbx\Rename">Rename D:\ActiveFiles\Aerial_Image_Processing\Tampa_Aerials.gdb\FLHILL20FALL_6in_Clipped_1ft D:\ActiveFiles\Aerial_Image_Processing\Tampa_Aerials.gdb\Tampa_Aerial_2021_clip RasterDataset</Process>
<Process Date="20230519" Time="123631" ToolSource="c:\program files\arcgis\pro\Resources\ArcToolbox\Toolboxes\Data Management Tools.tbx\CopyMultiple">CopyMultiple "R:\Tampa_Aerials.gdb\Tampa_Aerial_2021_clip RasterDataset" E:\arcgisserver\data\Tampa_HistoricAerialViewer.gdb Tampa_Aerial_2021_clip "Tampa_Aerial_2021_clip RasterDataset Tampa_Aerial_2021_clip #"</Process>
<Process Date="20230522" Time="162238" ToolSource="c:\program files\arcgis\pro\Resources\ArcToolbox\toolboxes\Data Management Tools.tbx\Resample">Resample Tampa_Aerial_2021_clip E:\Tampa_HistoricAerialViewer.gdb\Tampa_Aerial_2021_clip_2feet "2 2" Nearest</Process>
<Process Date="20230523" Time="091403" ToolSource="c:\program files\arcgis\pro\Resources\ArcToolbox\toolboxes\Data Management Tools.tbx\CopyRaster">CopyRaster E:\Tampa_HistoricAerialViewer.gdb\Tampa_Aerial_2021_clip_2feet E:\Tampa_HistoricAerialViwer.gdb\Tampa_Aerial_2021_clip_2feet # # # NONE NONE # NONE NONE "Esri Grid format" NONE CURRENT_SLICE NO_TRANSPOSE</Process>
<Process Date="20230523" Time="095350" ToolSource="c:\program files\arcgis\pro\Resources\ArcToolbox\Toolboxes\Data Management Tools.tbx\Rename">Rename E:\arcgisserver\data\Tampa_HistoricAerialViewer.gdb\Tampa_Aerial_2021_clip_2feet E:\arcgisserver\data\Tampa_HistoricAerialViewer.gdb\Aerial_2021_TB RasterDataset</Process>
</lineage>
</DataProperties>
<SyncDate>20230523</SyncDate>
<SyncTime>09140300</SyncTime>
<ModDate>20230523</ModDate>
<ModTime>09140300</ModTime>
</Esri>
<dataIdInfo>
<envirDesc Sync="TRUE">Microsoft Windows 10 Version 10.0 (Build 19045) ; Esri ArcGIS 13.1.0.41833</envirDesc>
<dataLang>
<languageCode Sync="TRUE" value="eng"/>
<countryCode Sync="TRUE" value="USA"/>
</dataLang>
<idCitation>
<resTitle Sync="TRUE">Aerial_2021_TB</resTitle>
<presForm>
<PresFormCd Sync="TRUE" value="011"/>
</presForm>
</idCitation>
<spatRpType>
<SpatRepTypCd Sync="TRUE" value="002"/>
</spatRpType>
<dataExt>
<geoEle>
<GeoBndBox esriExtentType="search">
<exTypeCode Sync="TRUE">1</exTypeCode>
<westBL Sync="TRUE">-82.637701</westBL>
<eastBL Sync="TRUE">-82.236712</eastBL>
<northBL Sync="TRUE">28.184895</northBL>
<southBL Sync="TRUE">27.805884</southBL>
</GeoBndBox>
</geoEle>
</dataExt>
<idAbs/>
<idPurp/>
<idCredit/>
<resConst>
<Consts>
<useLimit/>
</Consts>
</resConst>
</dataIdInfo>
<mdLang>
<languageCode Sync="TRUE" value="eng"/>
<countryCode Sync="TRUE" value="USA"/>
</mdLang>
<distInfo>
<distFormat>
<formatName Sync="TRUE">File Geodatabase Raster Dataset</formatName>
</distFormat>
</distInfo>
<mdHrLv>
<ScopeCd Sync="TRUE" value="005"/>
</mdHrLv>
<mdHrLvName Sync="TRUE">dataset</mdHrLvName>
<refSysInfo>
<RefSystem>
<refSysID>
<identCode Sync="TRUE" code="6443"/>
<idCodeSpace Sync="TRUE">EPSG</idCodeSpace>
<idVersion Sync="TRUE">8.2.10(10.3.1)</idVersion>
</refSysID>
</RefSystem>
</refSysInfo>
<spdoinfo>
<rastinfo>
<rasttype Sync="TRUE">Pixel</rasttype>
<rowcount Sync="TRUE">68668</rowcount>
<colcount Sync="TRUE">64456</colcount>
<rastxsz Sync="TRUE">2.000000</rastxsz>
<rastysz Sync="TRUE">2.000000</rastysz>
<rastbpp Sync="TRUE">8</rastbpp>
<vrtcount Sync="TRUE">1</vrtcount>
<rastorig Sync="TRUE">Upper Left</rastorig>
<rastcmap Sync="TRUE">FALSE</rastcmap>
<rastcomp Sync="TRUE">LZ77</rastcomp>
<rastband Sync="TRUE">4</rastband>
<rastdtyp Sync="TRUE">pixel codes</rastdtyp>
<rastifor Sync="TRUE">FGDBR</rastifor>
<rastplyr Sync="TRUE">TRUE</rastplyr>
</rastinfo>
</spdoinfo>
<spref>
<horizsys>
<planar>
<planci>
<plance Sync="TRUE">row and column</plance>
<coordrep>
<absres Sync="TRUE">2.000000</absres>
<ordres Sync="TRUE">2.000000</ordres>
</coordrep>
</planci>
</planar>
</horizsys>
</spref>
<mdDateSt Sync="TRUE">20230523</mdDateSt>
</metadata>
