<?xml version="1.0" encoding="UTF-8" standalone="no"?>
<metadata xml:lang="en">
<Esri>
<CreaDate>20130508</CreaDate>
<CreaTime>10145400</CreaTime>
<ArcGISFormat>1.0</ArcGISFormat>
<ArcGISstyle>FGDC CSDGM Metadata</ArcGISstyle>
<SyncOnce>FALSE</SyncOnce>
<DataProperties>
<itemProps>
<itemName Sync="TRUE">LULC2007_LDI_normalized_avg100m</itemName>
<nativeExtBox>
<westBL Sync="TRUE">317814.964900</westBL>
<eastBL Sync="TRUE">413044.964900</eastBL>
<southBL Sync="TRUE">3009084.447715</southBL>
<northBL Sync="TRUE">3143214.447715</northBL>
<exTypeCode Sync="TRUE">1</exTypeCode>
</nativeExtBox>
<itemLocation>
<linkage Sync="TRUE">file://\\fccdr-groot.forest.usf.edu\d$\arcgisserver\data\TampaBay_HistoricWetlands.gdb</linkage>
<protocol Sync="TRUE">Local Area Network</protocol>
</itemLocation>
<imsContentType Sync="TRUE">002</imsContentType>
</itemProps>
<coordRef>
<type Sync="TRUE">Projected</type>
<geogcsn Sync="TRUE">GCS_North_American_1983</geogcsn>
<csUnits Sync="TRUE">Linear Unit: Meter (1.000000)</csUnits>
<projcsn Sync="TRUE">NAD_1983_UTM_Zone_17N</projcsn>
<peXml Sync="TRUE">&lt;ProjectedCoordinateSystem xsi:type='typens:ProjectedCoordinateSystem' xmlns:xsi='http://www.w3.org/2001/XMLSchema-instance' xmlns:xs='http://www.w3.org/2001/XMLSchema' xmlns:typens='http://www.esri.com/schemas/ArcGIS/10.3'&gt;&lt;WKT&gt;PROJCS[&amp;quot;NAD_1983_UTM_Zone_17N&amp;quot;,GEOGCS[&amp;quot;GCS_North_American_1983&amp;quot;,DATUM[&amp;quot;D_North_American_1983&amp;quot;,SPHEROID[&amp;quot;GRS_1980&amp;quot;,6378137.0,298.257222101]],PRIMEM[&amp;quot;Greenwich&amp;quot;,0.0],UNIT[&amp;quot;Degree&amp;quot;,0.0174532925199433]],PROJECTION[&amp;quot;Transverse_Mercator&amp;quot;],PARAMETER[&amp;quot;false_easting&amp;quot;,500000.0],PARAMETER[&amp;quot;false_northing&amp;quot;,0.0],PARAMETER[&amp;quot;central_meridian&amp;quot;,-81.0],PARAMETER[&amp;quot;scale_factor&amp;quot;,0.9996],PARAMETER[&amp;quot;latitude_of_origin&amp;quot;,0.0],UNIT[&amp;quot;Meter&amp;quot;,1.0],AUTHORITY[&amp;quot;EPSG&amp;quot;,26917]]&lt;/WKT&gt;&lt;XOrigin&gt;-5120900&lt;/XOrigin&gt;&lt;YOrigin&gt;-9998100&lt;/YOrigin&gt;&lt;XYScale&gt;450445547.3910538&lt;/XYScale&gt;&lt;ZOrigin&gt;-100000&lt;/ZOrigin&gt;&lt;ZScale&gt;10000&lt;/ZScale&gt;&lt;MOrigin&gt;-100000&lt;/MOrigin&gt;&lt;MScale&gt;10000&lt;/MScale&gt;&lt;XYTolerance&gt;0.001&lt;/XYTolerance&gt;&lt;ZTolerance&gt;0.001&lt;/ZTolerance&gt;&lt;MTolerance&gt;0.001&lt;/MTolerance&gt;&lt;HighPrecision&gt;true&lt;/HighPrecision&gt;&lt;WKID&gt;26917&lt;/WKID&gt;&lt;LatestWKID&gt;26917&lt;/LatestWKID&gt;&lt;/ProjectedCoordinateSystem&gt;</peXml>
</coordRef>
<lineage>
<Process Date="20130508" Name="" Time="101509" ToolSource="c:\program files (x86)\arcgis\desktop10.0\ArcToolbox\Toolboxes\Data Management Tools.tbx\ProjectRaster" export="">ProjectRaster "P:\Misc Projects\TBEP_ManateeSupplement\Deliverables_Rasters.gdb\LULC2007_LDI_Normalized_avg100m" C:\Users\hammond\Desktop\ManateeWetlands\Deliverables_Rasters.gdb\LULC2007_LDI_normalized_avg100m PROJCS['NAD_1983_UTM_Zone_17N',GEOGCS['GCS_North_American_1983',DATUM['D_North_American_1983',SPHEROID['GRS_1980',6378137.0,298.257222101]],PRIMEM['Greenwich',0.0],UNIT['Degree',0.0174532925199433]],PROJECTION['Transverse_Mercator'],PARAMETER['False_Easting',500000.0],PARAMETER['False_Northing',0.0],PARAMETER['Central_Meridian',-81.0],PARAMETER['Scale_Factor',0.9996],PARAMETER['Latitude_Of_Origin',0.0],UNIT['Meter',1.0]] NEAREST 10 # # PROJCS['NAD_1983_UTM_Zone_17N',GEOGCS['GCS_North_American_1983',DATUM['D_North_American_1983',SPHEROID['GRS_1980',6378137.0,298.257222101]],PRIMEM['Greenwich',0.0],UNIT['Degree',0.0174532925199433]],PROJECTION['Transverse_Mercator'],PARAMETER['False_Easting',500000.0],PARAMETER['False_Northing',0.0],PARAMETER['Central_Meridian',-81.0],PARAMETER['Scale_Factor',0.9996],PARAMETER['Latitude_Of_Origin',0.0],UNIT['Meter',1.0]]</Process>
</lineage>
</DataProperties>
<SyncDate>20161116</SyncDate>
<SyncTime>15043100</SyncTime>
<ModDate>20161116</ModDate>
<ModTime>15043100</ModTime>
<ArcGISProfile>FGDC</ArcGISProfile>
</Esri>
<mdLang>
<languageCode value="eng"/>
<countryCode Sync="TRUE" value="USA"/>
</mdLang>
<mdChar>
<CharSetCd value="004"/>
</mdChar>
<mdHrLv>
<ScopeCd value="005"/>
</mdHrLv>
<mdContact>
<rpIndName>Rich Hammond</rpIndName>
<rpOrgName>Florida Center for Community Design and Research</rpOrgName>
<rpPosName>GIS Team Leader</rpPosName>
<rpCntInfo>
<cntPhone>
<voiceNum>813-974-4042</voiceNum>
</cntPhone>
<cntAddress>
<eMailAdd>hammond@usf.edu</eMailAdd>
</cntAddress>
</rpCntInfo>
<role>
<RoleCd value="007"/>
</role>
</mdContact>
<mdStanName>ArcGIS Metadata</mdStanName>
<mdStanVer>1.0</mdStanVer>
<distInfo>
<distFormat>
<formatName Sync="TRUE">File Geodatabase Raster Dataset</formatName>
</distFormat>
</distInfo>
<dataIdInfo>
<idCitation>
<date>
<pubDate>2012-01-01</pubDate>
</date>
<citRespParty>
<rpOrgName>Florida Center for Community Design and Research, University of South Florida</rpOrgName>
<role>
<RoleCd value="006"/>
</role>
</citRespParty>
<resTitle Sync="TRUE">LULC2007_LDI_normalized_avg100m</resTitle>
<presForm>
<PresFormCd Sync="TRUE" value="011"/>
</presForm>
</idCitation>
<idAbs>&lt;DIV STYLE="text-align:Left;"&gt;&lt;DIV&gt;&lt;P&gt;&lt;SPAN&gt;Index of Landscape Development Intensity generated from 2007 Land Use-Land Cover data for the Tampa Bay Watershed and Manatee County, Florida.&lt;/SPAN&gt;&lt;/P&gt;&lt;/DIV&gt;&lt;/DIV&gt;</idAbs>
<idPurp>The index of Landscape Development Intensity is used to estimate the potential impacts from human-dominated activities on current ecological systems. This layer was originally generated in 2009 for the Tampa Bay Watershed from a raster which classified landscape development intensity of 2007 land use-land cover based on the crosswalk developed by Brown, M.T., and M.B. Vivas. 2005. Landscape Development Intensity index. Environmental Monitoring and Assessment 101:289-309. The LDI was calculated for each grid cell by calculating the average LDI score for the 100 m buffer surrounding the grid cell. In 2013 this layer was recreated to include all of Manatee County, including a 0.5 mile buffer around the county boundary.</idPurp>
<idCredit>Florida Center for Community Design and Research, University of South Florida</idCredit>
<idStatus>
<ProgCd value="001"/>
</idStatus>
<idPoC>
<rpIndName>Shawn Landry</rpIndName>
<rpOrgName>Florida Center for Community Design and Research</rpOrgName>
<rpPosName>Program Director</rpPosName>
<rpCntInfo>
<cntAddress>
<eMailAdd>landry@usf.edu</eMailAdd>
</cntAddress>
</rpCntInfo>
<role>
<RoleCd value="007"/>
</role>
</idPoC>
<resMaint>
<maintFreq>
<MaintFreqCd value="011"/>
</maintFreq>
</resMaint>
<placeKeys>
<keyword>Tampa Bay, Florida</keyword>
</placeKeys>
<tempKeys>
<keyword>2007</keyword>
</tempKeys>
<themeKeys>
<keyword>Land Use-Land Cover, Landscape Development Intensity Index</keyword>
</themeKeys>
<searchKeys>
<keyword>Tampa Bay</keyword>
<keyword>Florida</keyword>
<keyword>Land Use-Land Cover</keyword>
<keyword>Landscape Development Intensity Index</keyword>
<keyword>2007</keyword>
</searchKeys>
<dataLang>
<languageCode value="eng"/>
<countryCode Sync="TRUE" value="USA"/>
</dataLang>
<dataExt>
<exDesc>ground condition</exDesc>
<tempEle>
<TempExtent>
<exTemp>
<TM_Instant>
<tmPosition>2007-01-01</tmPosition>
</TM_Instant>
</exTemp>
</TempExtent>
</tempEle>
</dataExt>
<suppInfo>The LDI index is based upon the idea that the condition of a landscape unit (wetland) is a function of the condition of the area immediately contributing to that landscape unit (surrounding land use-land cover), specifically the amount of non-renewable energy required to create and sustain a given land use-land cover. This layer was generated from the LULC2007_LDI_Normalized raster dataset.</suppInfo>
<envirDesc Sync="TRUE">Microsoft Windows 7 Version 6.1 (Build 7601) Service Pack 1; Esri ArcGIS 10.3.1.4959</envirDesc>
<spatRpType>
<SpatRepTypCd Sync="TRUE" value="002"/>
</spatRpType>
<dataExt>
<geoEle>
<GeoBndBox esriExtentType="search">
<exTypeCode Sync="TRUE">1</exTypeCode>
<westBL Sync="TRUE">-82.859712</westBL>
<eastBL Sync="TRUE">-81.877981</eastBL>
<northBL Sync="TRUE">28.412459</northBL>
<southBL Sync="TRUE">27.192421</southBL>
</GeoBndBox>
</geoEle>
</dataExt>
<resConst>
<Consts>
<useLimit/>
</Consts>
</resConst>
</dataIdInfo>
<dqInfo>
<dqScope>
<scpLvl>
<ScopeCd value="005"/>
</scpLvl>
</dqScope>
<dataLineage>
<prcStep>
<stepDesc>Input data was LULC2007_LDI_normalized raster dataset, which classified Landscape Development Intensity for land use-land cover types based on the crosswalk developed by Brown, M.T., and M.B. Vivas. 2005. Landscape Development Intensity index. Environmental Monitoring and Assessment 101:289-309. This LDI was calculated from that layer by calculating the average LDI score for the 100m buffer surrounding each grid cell.</stepDesc>
</prcStep>
<statement>The original dataset this was created from was created in 2009 for the entire Tampa Bay Watershed. In 2013, the Tampa Bay Estuary Program and Manatee County contracted out the Florida Center for Community Design and Research to expand the layer to all of Manatee County, including a 0.5 mile buffer.</statement>
</dataLineage>
</dqInfo>
<mdHrLvName Sync="TRUE">dataset</mdHrLvName>
<refSysInfo>
<RefSystem>
<refSysID>
<identCode Sync="TRUE" code="26917" value="26917"/>
<idCodeSpace Sync="TRUE">EPSG</idCodeSpace>
<idVersion Sync="TRUE">8.6.2</idVersion>
</refSysID>
</RefSystem>
</refSysInfo>
<spdoinfo>
<rastinfo>
<rasttype Sync="TRUE">Pixel</rasttype>
<rowcount Sync="TRUE">13413</rowcount>
<colcount Sync="TRUE">9523</colcount>
<rastxsz Sync="TRUE">10.000000</rastxsz>
<rastysz Sync="TRUE">10.000000</rastysz>
<rastbpp Sync="TRUE">32</rastbpp>
<vrtcount Sync="TRUE">1</vrtcount>
<rastorig Sync="TRUE">Upper Left</rastorig>
<rastcmap Sync="TRUE">FALSE</rastcmap>
<rastcomp Sync="TRUE">LZ77</rastcomp>
<rastband Sync="TRUE">1</rastband>
<rastdtyp Sync="TRUE">pixel codes</rastdtyp>
<rastifor Sync="TRUE">FGDBR</rastifor>
<rastplyr Sync="TRUE">TRUE</rastplyr>
</rastinfo>
</spdoinfo>
<spref>
<horizsys>
<planar>
<planci>
<plance Sync="TRUE">row and column</plance>
<coordrep>
<absres Sync="TRUE">10.000000</absres>
<ordres Sync="TRUE">10.000000</ordres>
</coordrep>
</planci>
</planar>
</horizsys>
</spref>
<mdDateSt Sync="TRUE">20161116</mdDateSt>
</metadata>
