<?xml version="1.0" encoding="UTF-8" standalone="no"?>
<metadata xml:lang="en">
<Esri>
<CreaDate>20130129</CreaDate>
<CreaTime>04122100</CreaTime>
<ArcGISFormat>1.0</ArcGISFormat>
<ArcGISstyle>FGDC CSDGM Metadata</ArcGISstyle>
<SyncOnce>FALSE</SyncOnce>
<DataProperties>
<itemProps>
<itemName Sync="TRUE">AerialImagery_194858</itemName>
<nativeExtBox>
<westBL Sync="TRUE">315732.732300</westBL>
<eastBL Sync="TRUE">414689.739196</eastBL>
<southBL Sync="TRUE">3006904.224883</southBL>
<northBL Sync="TRUE">3144781.089111</northBL>
<exTypeCode Sync="TRUE">1</exTypeCode>
</nativeExtBox>
<itemLocation>
<linkage Sync="TRUE">file://\\forest.usf.edu\files\fccdr-priv\Misc Projects\TBEP_ManateeSupplement\Final_Deliverables\ManateeWetlands_Final_Aerials.gdb</linkage>
<protocol Sync="TRUE">Local Area Network</protocol>
</itemLocation>
<imsContentType Sync="TRUE" export="False">002</imsContentType>
</itemProps>
<coordRef>
<type Sync="TRUE">Projected</type>
<geogcsn Sync="TRUE">GCS_North_American_1983</geogcsn>
<csUnits Sync="TRUE">Linear Unit: Meter (1.000000)</csUnits>
<projcsn Sync="TRUE">NAD_1983_UTM_Zone_17N</projcsn>
<peXml Sync="TRUE">&lt;ProjectedCoordinateSystem xsi:type='typens:ProjectedCoordinateSystem' xmlns:xsi='http://www.w3.org/2001/XMLSchema-instance' xmlns:xs='http://www.w3.org/2001/XMLSchema' xmlns:typens='http://www.esri.com/schemas/ArcGIS/10.0'&gt;&lt;WKT&gt;PROJCS[&amp;quot;NAD_1983_UTM_Zone_17N&amp;quot;,GEOGCS[&amp;quot;GCS_North_American_1983&amp;quot;,DATUM[&amp;quot;D_North_American_1983&amp;quot;,SPHEROID[&amp;quot;GRS_1980&amp;quot;,6378137.0,298.257222101]],PRIMEM[&amp;quot;Greenwich&amp;quot;,0.0],UNIT[&amp;quot;Degree&amp;quot;,0.0174532925199433]],PROJECTION[&amp;quot;Transverse_Mercator&amp;quot;],PARAMETER[&amp;quot;false_easting&amp;quot;,500000.0],PARAMETER[&amp;quot;false_northing&amp;quot;,0.0],PARAMETER[&amp;quot;central_meridian&amp;quot;,-81.0],PARAMETER[&amp;quot;scale_factor&amp;quot;,0.9996],PARAMETER[&amp;quot;latitude_of_origin&amp;quot;,0.0],UNIT[&amp;quot;Meter&amp;quot;,1.0],AUTHORITY[&amp;quot;EPSG&amp;quot;,26917]]&lt;/WKT&gt;&lt;XOrigin&gt;-5120900&lt;/XOrigin&gt;&lt;YOrigin&gt;-9998100&lt;/YOrigin&gt;&lt;XYScale&gt;450445547.3910538&lt;/XYScale&gt;&lt;ZOrigin&gt;0&lt;/ZOrigin&gt;&lt;ZScale&gt;1&lt;/ZScale&gt;&lt;MOrigin&gt;-100000&lt;/MOrigin&gt;&lt;MScale&gt;10000&lt;/MScale&gt;&lt;XYTolerance&gt;0.001&lt;/XYTolerance&gt;&lt;ZTolerance&gt;2&lt;/ZTolerance&gt;&lt;MTolerance&gt;2&lt;/MTolerance&gt;&lt;HighPrecision&gt;true&lt;/HighPrecision&gt;&lt;WKID&gt;26917&lt;/WKID&gt;&lt;/ProjectedCoordinateSystem&gt;</peXml>
</coordRef>
</DataProperties>
<SyncDate>20130523</SyncDate>
<SyncTime>16405500</SyncTime>
<ModDate>20130523</ModDate>
<ModTime>16405500</ModTime>
<ArcGISProfile>FGDC</ArcGISProfile>
</Esri>
<mdLang>
<languageCode value="eng"/>
<countryCode Sync="TRUE" value="USA"/>
</mdLang>
<mdChar>
<CharSetCd value="004"/>
</mdChar>
<mdHrLv>
<ScopeCd value="005"/>
</mdHrLv>
<mdContact>
<rpIndName>Rich Hammond</rpIndName>
<rpOrgName>Florida Center for Community Design and Research</rpOrgName>
<rpPosName>GIS Team Leader</rpPosName>
<rpCntInfo>
<cntPhone>
<voiceNum>813-974-4042</voiceNum>
</cntPhone>
<cntAddress addressType="both">
<delPoint>4202 E. Fowler Ave. HMS 301</delPoint>
<city>Tampa</city>
<adminArea>FL</adminArea>
<postCode>33620</postCode>
<eMailAdd>hammond@usf.edu</eMailAdd>
</cntAddress>
</rpCntInfo>
<role>
<RoleCd value="007"/>
</role>
</mdContact>
<mdDateSt Sync="TRUE">20130523</mdDateSt>
<mdStanName>ArcGIS Metadata</mdStanName>
<mdStanVer>1.0</mdStanVer>
<distInfo>
<distributor>
<distorFormat>
<formatName>File Geodatabase Raster Dataset</formatName>
</distorFormat>
</distributor>
<distFormat>
<formatName Sync="TRUE">File Geodatabase Raster Dataset</formatName>
</distFormat>
</distInfo>
<dataIdInfo>
<idCitation>
<resTitle Sync="TRUE">TampaBayAerialImagery_194858</resTitle>
<citRespParty>
<rpOrgName>Florida Center for Community Design and Research, University of South Florida</rpOrgName>
<role>
<RoleCd value="006"/>
</role>
</citRespParty>
<presForm>
<fgdcGeoform>Fgdb raster digital data</fgdcGeoform>
<PresFormCd Sync="TRUE" value="011"/>
</presForm>
</idCitation>
<idAbs>&lt;DIV STYLE="text-align:Left;"&gt;&lt;DIV&gt;&lt;DIV&gt;&lt;P&gt;&lt;SPAN&gt;Monochromatic, mosaicked aerial imagery for the Tampa Bay watershed and Manatee County ranging in date from 1948-1958.&lt;/SPAN&gt;&lt;/P&gt;&lt;/DIV&gt;&lt;/DIV&gt;&lt;/DIV&gt;</idAbs>
<idPurp>The historic aerial imagery files were collected and utilized in 2009 as part of the change analysis task of the "Developing a Coordinated Watershed Approach for Linking Compensatory Mitigation and Tampa Bay Habitat Restoration Goals" project of the Tampa Bay Estuary Program. The imagery was used to help locate and delineate freshwater wetlands that existed during the 1950s that were not included in pre-existing historic wetlands datasets. In 2013, this dataset was updated to include all of Manatee County, including a 0.5 mile buffer of the county.</idPurp>
<idCredit>Florida Center for Community Design and Research, University of South Florida.</idCredit>
<idStatus>
<ProgCd value="001"/>
</idStatus>
<idPoC>
<rpIndName>Rich Hammond</rpIndName>
<rpOrgName>Florida Center for Community Design and Research</rpOrgName>
<rpPosName>GIS Team Leader</rpPosName>
<rpCntInfo>
<cntAddress addressType="both">
<delPoint>4202 E. Fowler Ave. HMS 301</delPoint>
<delPoint>University of South Florida</delPoint>
<city>Tampa</city>
<adminArea>FL</adminArea>
<postCode>33620</postCode>
<eMailAdd>hammond@usf.edu</eMailAdd>
</cntAddress>
</rpCntInfo>
<role>
<RoleCd value="007"/>
</role>
</idPoC>
<resMaint>
<maintFreq>
<MaintFreqCd value="011"/>
</maintFreq>
</resMaint>
<placeKeys>
<keyword>Polk County</keyword>
<keyword>Tampa Bay</keyword>
<keyword>Pinellas County</keyword>
<keyword>Pasco County</keyword>
<keyword>Manatee County</keyword>
<keyword>Hillsborough County</keyword>
</placeKeys>
<themeKeys>
<keyword>historic imagery</keyword>
<keyword>Historic aerials</keyword>
</themeKeys>
<themeKeys>
<thesaName>
<resTitle>ISO 19115 Topic Categories</resTitle>
</thesaName>
<keyword>imageryBaseMapsEarthCover</keyword>
</themeKeys>
<searchKeys>
<keyword>Polk County</keyword>
<keyword>Tampa Bay</keyword>
<keyword>Pinellas County</keyword>
<keyword>Pasco County</keyword>
<keyword>historic imagery</keyword>
<keyword>Manatee County</keyword>
<keyword>imageryBaseMapsEarthCover</keyword>
<keyword>Hillsborough County</keyword>
<keyword>Historic aerials</keyword>
</searchKeys>
<resConst>
<LegConsts>
<useLimit>See access and use constraints information.</useLimit>
</LegConsts>
<Consts>
<useLimit/>
</Consts>
</resConst>
<dataLang>
<languageCode value="eng"/>
<countryCode Sync="TRUE" value="USA"/>
</dataLang>
<envirDesc Sync="TRUE">Microsoft Windows 7 Version 6.1 (Build 7601) Service Pack 1; ESRI ArcGIS 10.0.5.4400</envirDesc>
<dataExt>
<geoEle>
<GeoBndBox>
<westBL>-82.881208</westBL>
<eastBL>-81.86256</eastBL>
<southBL>27.345578</southBL>
<northBL>28.426707</northBL>
</GeoBndBox>
</geoEle>
</dataExt>
<dataExt>
<exDesc>ground condition</exDesc>
<tempEle>
<TempExtent>
<exTemp>
<TM_Period>
<tmBegin>1948-01-01</tmBegin>
<tmEnd>1958-01-01</tmEnd>
</TM_Period>
</exTemp>
</TempExtent>
</tempEle>
</dataExt>
<suppInfo>One of the goals of the Tampa Bay Estuary Program's project was to recreate a GIS layer of freshwater wetlands as they existed in the Tampa Bay watershed in the time period around 1950. Some areas within the watershead had historic wetlands data available (which was provided by the USGS). For the other areas, it had to be created by heads-up digitizing from historic aerial imagery. This dataset is the end product of that initiative.
In 2013 this dataset was updated to include historic aerial imagery within all of Manatee County.</suppInfo>
<spatRpType>
<SpatRepTypCd Sync="TRUE" value="002"/>
</spatRpType>
<dataExt>
<geoEle>
<GeoBndBox esriExtentType="search">
<exTypeCode Sync="TRUE">1</exTypeCode>
<westBL Sync="TRUE">-82.881208</westBL>
<eastBL Sync="TRUE">-81.861224</eastBL>
<northBL Sync="TRUE">28.426707</northBL>
<southBL Sync="TRUE">27.172470</southBL>
</GeoBndBox>
</geoEle>
</dataExt>
<dataChar>
<CharSetCd value="004"/>
</dataChar>
<tpCat>
<TopicCatCd value="010"/>
</tpCat>
</dataIdInfo>
<dqInfo>
<dqScope>
<scpLvl>
<ScopeCd value="005"/>
</scpLvl>
</dqScope>
<dataLineage>
<prcStep>
<stepDesc>Spatial processes were run to determine which areas of the Tampa Bay watershed did not have historic wetlands data already available. For these areas georeferenced historic aerial imagery were sought out. Aerial imagery provided from FWC and SWFMWD covered a large portion of Hillsborough County, Pinellas and, to a lesser extent, Manatee County. For the remaining areas in Manatee County, as well as Polk and Pasco counties, digital imagery was obtained from the University of Florida. These images were not spatially referenced, and had to be manually georeferenced by Florida Center staff.</stepDesc>
</prcStep>
<prcStep>
<stepDesc>Aerial images needing to be georeferenced were first exported from Mr.Sid files into TIFs and then brought into Adobe Photoshop to have any superfluous borders cropped out. The images were then brought into ArcMap and compared against 1970 imagery (also provided from SWFWMD) to locate areas with features that were both present and structurally similar over the span of years. Examples include buildings, road intersections property lines and, less ideally, waterbody and wetland boundaries. These features were used to create control points which served as the known geographic coordinates to help spatially reference the historic imagery. A minimum of six control points were located for each georeferenced image. Root Mean Square (RMS) errors were kept to 5 meters or less when possible. Spatial reference information was updated to each image file once the georeferencing process was complete.</stepDesc>
</prcStep>
<prcStep>
<stepDesc>Once all the acquired imagery was georeferenced the files were then used to delineate the freshwater wetlands that are contained in the "Wetlands_1950_Final" feature class. The imagery was then mosaicked into one complete raster dataset for ease of use. The accompanying "Imagery_SourceFootprints" feature class shows the extent of each of the original source files used to create the final mosaic.</stepDesc>
</prcStep>
<dataSource type="">
<srcCitatn>
<resTitle>SWFWMD Hillsborough County Aerial Imagery (1948)</resTitle>
<resAltTitle>SWFWMD_1948</resAltTitle>
<date>
<pubDate>1948-01-01</pubDate>
</date>
<citRespParty>
<rpOrgName>Southwest Florida Water Management District</rpOrgName>
<role>
<RoleCd value="006"/>
</role>
</citRespParty>
<citRespParty>
<rpOrgName>National Resources Conservation Service</rpOrgName>
<role>
<RoleCd value="010"/>
</role>
</citRespParty>
<otherCitDet>Hardcopy maps were originally provided to the SWFWMD by the Hillsborough County NRCS for digitization. Digital copies were provided by SWFMWD to the University of South Florida by April Davis (GIS Analyst III, April.Davis@swfwmd.state.fl.us)</otherCitDet>
</srcCitatn>
</dataSource>
<dataSource type="">
<srcCitatn>
<resTitle>University of Florida Historic Imagery (1951-58)</resTitle>
<resAltTitle>UF_1951-58</resAltTitle>
<date>
<pubDate date="unknown"/>
</date>
<citRespParty>
<rpOrgName>University of Florida Map &amp; Digital Imagery Library</rpOrgName>
<role>
<RoleCd value="006"/>
</role>
</citRespParty>
<otherCitDet>Ungeoreferenced historic digital imagery was obtained from The University of Florida Map &amp; Digital Imagery Library. Image files not directly available from the website were obtained from Jennifer Harrington, Senior Archivist: (jenfarr@uflib.ufl.edu)</otherCitDet>
<citOnlineRes>
<linkage>http://ufdcweb1.uflib.ufl.edu/ufdc/?c=flap</linkage>
</citOnlineRes>
</srcCitatn>
</dataSource>
<dataSource type="">
<srcCitatn>
<resTitle>FWRI Tampa Bay Imagery (1947-1952)</resTitle>
<resAltTitle>FWRI_5758</resAltTitle>
<citRespParty>
<rpOrgName>United States Department of Agriculture</rpOrgName>
<role>
<RoleCd value="010"/>
</role>
</citRespParty>
<citRespParty>
<rpOrgName>Fish and Wildlife Research Institute</rpOrgName>
<role>
<RoleCd value="006"/>
</role>
</citRespParty>
<otherCitDet>Imagery was obtained from René Baumstark, GIS Database Administrator, Fish and Wildlife Research Institute: (Rene.Baumstark@MyFWC.com)</otherCitDet>
</srcCitatn>
</dataSource>
<prcStep>
<stepDesc>In 2013, Manatee County and the TBEP contracted the Florida Center and Community Design to expand the extent of the original dataset to include all of Manatee County, along with a 0.5 foot buffer of the county boundary. Historic imagery was obtained to fill this area from the University of Florida. Imagery was processed using the same process steps outlined above, and then mosaicked together with the original imagery covering the Tampa Bay Watershed.</stepDesc>
</prcStep>
</dataLineage>
</dqInfo>
<spatRepInfo>
<Georect>
<numDims>2</numDims>
<axisDimension type="001">
<dimSize>136857</dimSize>
</axisDimension>
<axisDimension type="002">
<dimSize>114101</dimSize>
</axisDimension>
<axisDimension type="003">
<dimSize>1</dimSize>
</axisDimension>
<cellGeo>
<CellGeoCd value="002"/>
</cellGeo>
</Georect>
</spatRepInfo>
<mdHrLvName Sync="TRUE">dataset</mdHrLvName>
<refSysInfo>
<RefSystem>
<refSysID>
<identCode Sync="TRUE" code="26917" value="26917"/>
<idCodeSpace Sync="TRUE">EPSG</idCodeSpace>
<idVersion Sync="TRUE">7.4.1</idVersion>
</refSysID>
</RefSystem>
</refSysInfo>
<spdoinfo>
<rastinfo>
<rasttype Sync="TRUE">Pixel</rasttype>
<rowcount Sync="TRUE">158977</rowcount>
<colcount Sync="TRUE">114101</colcount>
<rastxsz Sync="TRUE">0.867276</rastxsz>
<rastysz Sync="TRUE">0.867276</rastysz>
<rastbpp Sync="TRUE">8</rastbpp>
<vrtcount Sync="TRUE">1</vrtcount>
<rastorig Sync="TRUE">Upper Left</rastorig>
<rastcmap Sync="TRUE">FALSE</rastcmap>
<rastcomp Sync="TRUE">LZ77</rastcomp>
<rastband Sync="TRUE">1</rastband>
<rastdtyp Sync="TRUE">pixel codes</rastdtyp>
<rastifor Sync="TRUE">FGDBR</rastifor>
<rastplyr Sync="TRUE">TRUE</rastplyr>
</rastinfo>
</spdoinfo>
<spref>
<horizsys>
<planar>
<planci>
<plance Sync="TRUE">row and column</plance>
<coordrep>
<absres Sync="TRUE">0.867276</absres>
<ordres Sync="TRUE">0.867276</ordres>
</coordrep>
</planci>
</planar>
</horizsys>
</spref>
<mdMaint>
<maintFreq>
<MaintFreqCd value="011"/>
</maintFreq>
</mdMaint>
<contInfo>
<ImgDesc>
<trianInd>False</trianInd>
<radCalDatAv>False</radCalDatAv>
<camCalInAv>False</camCalInAv>
<filmDistInAv>False</filmDistInAv>
<lensDistInAv>False</lensDistInAv>
</ImgDesc>
</contInfo>
</metadata>
