{
 "currentVersion": 11.1,
 "serviceDescription": "Images/Aerial_2006_TB",
 "name": "Images/Aerial_2006_TB",
 "description": "",
 "extent": {
  "xmin": -9195731.261702804,
  "ymin": 3226274.323545807,
  "xmax": -9154549.179276044,
  "ymax": 3272443.4159541684,
  "spatialReference": {
   "wkid": 102100,
   "latestWkid": 3857
  }
 },
 "initialExtent": {
  "xmin": -9195731.261702804,
  "ymin": 3226274.323545807,
  "xmax": -9154549.179276044,
  "ymax": 3272443.4159541684,
  "spatialReference": {
   "wkid": 102100,
   "latestWkid": 3857
  }
 },
 "fullExtent": {
  "xmin": -9195731.261702804,
  "ymin": 3226274.323545807,
  "xmax": -9154549.179276044,
  "ymax": 3272443.4159541684,
  "spatialReference": {
   "wkid": 102100,
   "latestWkid": 3857
  }
 },
 "sortableFields": "",
 "bandCount": 4,
 "pixelType": "F32",
 "minValues": [
  0,
  0,
  0,
  0
 ],
 "maxValues": [
  2139,
  2536,
  2262,
  2911
 ],
 "meanValues": [
  388.1836814954336,
  433.7128382008853,
  335.720099155086,
  569.0639788744062
 ],
 "stdvValues": [
  139.41998387443542,
  194.2468353215682,
  209.52638046332987,
  321.69622766307845
 ],
 "hasMultidimensions": false,
 "pixelSizeX": 1.0000020015239752,
 "pixelSizeY": 1.000002001523996,
 "datasetFormat": "FGDBR",
 "uncompressedSize": 30421308128,
 "blockWidth": 128,
 "blockHeight": 128,
 "compressionType": "LZ77",
 "bandNames": [
  "Band_1",
  "Band_2",
  "Band_3",
  "Band_4"
 ],
 "allowCopy": true,
 "allowAnalysis": true,
 "itemAccess": false,
 "minPixelSize": 0,
 "maxPixelSize": 0,
 "copyrightText": "",
 "serviceDataType": "esriImageServiceDataTypeGeneric",
 "serviceSourceType": "esriImageServiceSourceTypeDataset",
 "objectIdField": "",
 "fields": [],
 "capabilities": "Image,Metadata,Mensuration",
 "defaultMosaicMethod": "Center",
 "allowedMosaicMethods": "",
 "sortField": "",
 "sortValue": null,
 "sortAscending": true,
 "mosaicOperator": "First",
 "defaultCompressionQuality": 75,
 "defaultResamplingMethod": "Bilinear",
 "maxImageHeight": 4100,
 "maxImageWidth": 15000,
 "allowRasterFunction": true,
 "rasterFunctionInfos": [
  {
   "name": "None",
   "description": "",
   "help": ""
  }
 ],
 "rasterTypeInfos": [
  {
   "name": "Raster Dataset",
   "description": "Supports all ArcGIS Raster Datasets",
   "help": ""
  }
 ],
 "mensurationCapabilities": "Basic",
 "hasHistograms": true,
 "hasColormap": false,
 "hasRasterAttributeTable": false,
 "minScale": 0,
 "maxScale": 0,
 "exportTilesAllowed": false,
 "supportsStatistics": false,
 "supportsAdvancedQueries": false,
 "editFieldsInfo": null,
 "ownershipBasedAccessControlForRasters": null,
 "allowComputeTiePoints": false,
 "useStandardizedQueries": true,
 "advancedQueryCapabilities": {
  "useStandardizedQueries": true,
  "supportsStatistics": false,
  "supportsOrderBy": false,
  "supportsDistinct": false,
  "supportsPagination": false
 },
 "spatialReference": {
  "wkid": 102100,
  "latestWkid": 3857
 }
}
