{
 "currentVersion": 11.1,
 "serviceDescription": "Images/Aerials_1965_Tampa",
 "name": "Images/Aerials_1965_Tampa",
 "description": "",
 "extent": {
  "xmin": 465840.94770629035,
  "ymin": 1261983.072906722,
  "xmax": 587745.1018800666,
  "ymax": 1406834.9455229894,
  "spatialReference": {
   "wkid": 103023,
   "latestWkid": 6443
  }
 },
 "initialExtent": {
  "xmin": 465840.94770629035,
  "ymin": 1261983.072906722,
  "xmax": 587745.1018800666,
  "ymax": 1406834.9455229894,
  "spatialReference": {
   "wkid": 103023,
   "latestWkid": 6443
  }
 },
 "fullExtent": {
  "xmin": 465840.94770629035,
  "ymin": 1261983.072906722,
  "xmax": 587745.1018800666,
  "ymax": 1406834.9455229894,
  "spatialReference": {
   "wkid": 103023,
   "latestWkid": 6443
  }
 },
 "sortableFields": "",
 "bandCount": 1,
 "pixelType": "U8",
 "minValues": [
  0
 ],
 "maxValues": [
  255
 ],
 "meanValues": [
  107.37636867101598
 ],
 "stdvValues": [
  47.25074427656672
 ],
 "hasMultidimensions": false,
 "pixelSizeX": 1.1196399104849117,
 "pixelSizeY": 1.1283319645751755,
 "datasetFormat": "FGDBR",
 "uncompressedSize": 13977431006,
 "blockWidth": 128,
 "blockHeight": 128,
 "compressionType": "LZ77",
 "bandNames": [
  "Band_1"
 ],
 "allowCopy": true,
 "allowAnalysis": true,
 "itemAccess": false,
 "minPixelSize": 0,
 "maxPixelSize": 0,
 "copyrightText": "",
 "serviceDataType": "esriImageServiceDataTypeGeneric",
 "serviceSourceType": "esriImageServiceSourceTypeDataset",
 "objectIdField": "",
 "fields": [],
 "capabilities": "Image,Metadata,Mensuration",
 "defaultMosaicMethod": "Center",
 "allowedMosaicMethods": "",
 "sortField": "",
 "sortValue": null,
 "sortAscending": true,
 "mosaicOperator": "First",
 "defaultCompressionQuality": 75,
 "defaultResamplingMethod": "Bilinear",
 "maxImageHeight": 4100,
 "maxImageWidth": 15000,
 "allowRasterFunction": true,
 "rasterFunctionInfos": [
  {
   "name": "None",
   "description": "",
   "help": ""
  }
 ],
 "rasterTypeInfos": [
  {
   "name": "Raster Dataset",
   "description": "Supports all ArcGIS Raster Datasets",
   "help": ""
  }
 ],
 "mensurationCapabilities": "Basic",
 "hasHistograms": true,
 "hasColormap": false,
 "hasRasterAttributeTable": false,
 "minScale": 0,
 "maxScale": 0,
 "exportTilesAllowed": false,
 "supportsStatistics": false,
 "supportsAdvancedQueries": false,
 "editFieldsInfo": null,
 "ownershipBasedAccessControlForRasters": null,
 "allowComputeTiePoints": false,
 "useStandardizedQueries": true,
 "advancedQueryCapabilities": {
  "useStandardizedQueries": true,
  "supportsStatistics": false,
  "supportsOrderBy": false,
  "supportsDistinct": false,
  "supportsPagination": false
 },
 "spatialReference": {
  "wkid": 103023,
  "latestWkid": 6443
 }
}
