{
 "currentVersion": 11.1,
 "serviceDescription": "Images/HOLC_1936SecurityMap",
 "name": "Images/HOLC_1936SecurityMap",
 "description": "",
 "extent": {
  "xmin": -9192979.45232414,
  "ymin": 3225104.0931679546,
  "xmax": -9169854.841659265,
  "ymax": 3255646.340421564,
  "spatialReference": {
   "wkid": 102100,
   "latestWkid": 3857
  }
 },
 "initialExtent": {
  "xmin": -9192979.45232414,
  "ymin": 3225104.0931679546,
  "xmax": -9169854.841659265,
  "ymax": 3255646.340421564,
  "spatialReference": {
   "wkid": 102100,
   "latestWkid": 3857
  }
 },
 "fullExtent": {
  "xmin": -9192979.45232414,
  "ymin": 3225104.0931679546,
  "xmax": -9169854.841659265,
  "ymax": 3255646.340421564,
  "spatialReference": {
   "wkid": 102100,
   "latestWkid": 3857
  }
 },
 "sortableFields": "",
 "bandCount": 1,
 "pixelType": "U8",
 "minValues": [
  0
 ],
 "maxValues": [
  255
 ],
 "meanValues": [
  179.83173906550138
 ],
 "stdvValues": [
  80.46756874927465
 ],
 "hasMultidimensions": false,
 "pixelSizeX": 1.3085451938024093,
 "pixelSizeY": 1.308523510287021,
 "datasetFormat": "FGDBR",
 "uncompressedSize": 412482152,
 "blockWidth": 128,
 "blockHeight": 128,
 "compressionType": "LZ77",
 "bandNames": [
  "Band_1"
 ],
 "allowCopy": true,
 "allowAnalysis": true,
 "itemAccess": false,
 "minPixelSize": 0,
 "maxPixelSize": 0,
 "copyrightText": "",
 "serviceDataType": "esriImageServiceDataTypeGeneric",
 "serviceSourceType": "esriImageServiceSourceTypeDataset",
 "objectIdField": "",
 "fields": [],
 "capabilities": "Image,Metadata,Mensuration",
 "defaultMosaicMethod": "Center",
 "allowedMosaicMethods": "",
 "sortField": "",
 "sortValue": null,
 "sortAscending": true,
 "mosaicOperator": "First",
 "defaultCompressionQuality": 75,
 "defaultResamplingMethod": "Bilinear",
 "maxImageHeight": 4100,
 "maxImageWidth": 15000,
 "allowRasterFunction": true,
 "rasterFunctionInfos": [
  {
   "name": "None",
   "description": "",
   "help": ""
  }
 ],
 "rasterTypeInfos": [
  {
   "name": "Raster Dataset",
   "description": "Supports all ArcGIS Raster Datasets",
   "help": ""
  }
 ],
 "mensurationCapabilities": "Basic",
 "hasHistograms": true,
 "hasColormap": false,
 "hasRasterAttributeTable": true,
 "minScale": 0,
 "maxScale": 0,
 "exportTilesAllowed": false,
 "supportsStatistics": false,
 "supportsAdvancedQueries": false,
 "editFieldsInfo": null,
 "ownershipBasedAccessControlForRasters": null,
 "allowComputeTiePoints": false,
 "useStandardizedQueries": true,
 "advancedQueryCapabilities": {
  "useStandardizedQueries": true,
  "supportsStatistics": false,
  "supportsOrderBy": false,
  "supportsDistinct": false,
  "supportsPagination": false
 },
 "spatialReference": {
  "wkid": 102100,
  "latestWkid": 3857
 }
}
