{
 "currentVersion": 11.1,
 "serviceDescription": "Images/WI_Imagery_HILLSBOROUGH_AERIALS_1948",
 "name": "Images/WI_Imagery_HILLSBOROUGH_AERIALS_1948",
 "description": "",
 "extent": {
  "xmin": 437935.50538487,
  "ymin": 1191282.8121847543,
  "xmax": 648533.5612810901,
  "ymax": 1407678.7334743408,
  "spatialReference": {
   "wkid": 102659,
   "latestWkid": 2237
  }
 },
 "initialExtent": {
  "xmin": 437935.50538487,
  "ymin": 1191282.8121847543,
  "xmax": 648533.5612810901,
  "ymax": 1407678.7334743408,
  "spatialReference": {
   "wkid": 102659,
   "latestWkid": 2237
  }
 },
 "fullExtent": {
  "xmin": 437935.50538487,
  "ymin": 1191282.8121847543,
  "xmax": 648533.5612810901,
  "ymax": 1407678.7334743408,
  "spatialReference": {
   "wkid": 102659,
   "latestWkid": 2237
  }
 },
 "sortableFields": "",
 "bandCount": 1,
 "pixelType": "U8",
 "minValues": [
  0
 ],
 "maxValues": [
  255
 ],
 "meanValues": [
  108.99826003215547
 ],
 "stdvValues": [
  34.01206876681189
 ],
 "hasMultidimensions": false,
 "pixelSizeX": 5.971025117556568,
 "pixelSizeY": 5.97102511767298,
 "datasetFormat": "SDR",
 "uncompressedSize": 1278220070,
 "blockWidth": 128,
 "blockHeight": 128,
 "compressionType": "LZ77",
 "bandNames": [
  "Band_1"
 ],
 "allowCopy": true,
 "allowAnalysis": true,
 "itemAccess": false,
 "minPixelSize": 0,
 "maxPixelSize": 0,
 "copyrightText": "",
 "serviceDataType": "esriImageServiceDataTypeGeneric",
 "serviceSourceType": "esriImageServiceSourceTypeDataset",
 "objectIdField": "",
 "fields": [],
 "capabilities": "Image,Metadata,Mensuration",
 "defaultMosaicMethod": "Center",
 "allowedMosaicMethods": "",
 "sortField": "",
 "sortValue": null,
 "sortAscending": true,
 "mosaicOperator": "First",
 "defaultCompressionQuality": 75,
 "defaultResamplingMethod": "Bilinear",
 "maxImageHeight": 4100,
 "maxImageWidth": 15000,
 "allowRasterFunction": true,
 "rasterFunctionInfos": [
  {
   "name": "None",
   "description": "",
   "help": ""
  }
 ],
 "rasterTypeInfos": [
  {
   "name": "Raster Dataset",
   "description": "Supports all ArcGIS Raster Datasets",
   "help": ""
  }
 ],
 "mensurationCapabilities": "Basic",
 "hasHistograms": true,
 "hasColormap": false,
 "hasRasterAttributeTable": true,
 "minScale": 0,
 "maxScale": 0,
 "exportTilesAllowed": false,
 "supportsStatistics": false,
 "supportsAdvancedQueries": false,
 "editFieldsInfo": null,
 "ownershipBasedAccessControlForRasters": null,
 "allowComputeTiePoints": false,
 "useStandardizedQueries": true,
 "advancedQueryCapabilities": {
  "useStandardizedQueries": true,
  "supportsStatistics": false,
  "supportsOrderBy": false,
  "supportsDistinct": false,
  "supportsPagination": false
 },
 "spatialReference": {
  "wkid": 102659,
  "latestWkid": 2237
 }
}
