View In:
ArcGIS JavaScript
ArcGIS Online Map Viewer
ArcGIS Earth
Service Description: Images/Aerial_2016_TB
Name: Images/Aerial_2016_TB
Description:
Single Fused Map Cache: false
Extent:
XMin: 450734.49999999756
YMin: 1262664.0000013097
XMax: 579646.4999999976
YMax: 1400000.0000013097
Spatial Reference: 102659
(2237)
LatestVCSWkid(0)
Initial Extent:
XMin: 450734.49999999756
YMin: 1262664.0000013097
XMax: 579646.4999999976
YMax: 1400000.0000013097
Spatial Reference: 102659
(2237)
LatestVCSWkid(0)
Full Extent:
XMin: 450734.49999999756
YMin: 1262664.0000013097
XMax: 579646.4999999976
YMax: 1400000.0000013097
Spatial Reference: 102659
(2237)
LatestVCSWkid(0)
Pixel Size X: 2.0
Pixel Size Y: 2.0
Band Count: 3
Pixel Type: U8
RasterFunction Infos: {"rasterFunctionInfos": [{
"name": "None",
"description": "",
"help": ""
}]}
Mensuration Capabilities: Basic
Has Histograms: true
Has Colormap: false
Has Multi Dimensions : false
Rendering Rule:
Min Scale: 0
Max Scale: 0
Copyright Text:
Service Data Type: esriImageServiceDataTypeRGB
Min Values: 0, 0, 0
Max Values: 255, 255, 255
Mean Values: 97.37080876818844, 102.1177384377046, 102.81838796994849
Standard Deviation Values: 60.5699495130177, 55.89540060566413, 53.63068371268697
Object ID Field:
Fields:
None
Default Mosaic Method: Center
Allowed Mosaic Methods:
SortField:
SortValue: null
Mosaic Operator: First
Default Compression Quality: 75
Default Resampling Method: Bilinear
Max Record Count: null
Max Image Height: 4100
Max Image Width: 15000
Max Download Image Count: null
Max Mosaic Image Count: null
Allow Raster Function: true
Allow Copy: true
Allow Analysis: true
Allow Compute TiePoints: false
Supports Statistics: false
Supports Advanced Queries: false
Use StandardizedQueries: true
Raster Type Infos:
Name: Raster Dataset
Description: Supports all ArcGIS Raster Datasets
Help:
Has Raster Attribute Table: false
Edit Fields Info: null
Ownership Based AccessControl For Rasters: null
Child Resources:
Info
Histograms
Statistics
Key Properties
Legend
Raster Function Infos
Supported Operations:
Export Image
Identify
Measure
Compute Histograms
Compute Statistics Histograms
Get Samples
Compute Class Statistics
Query Boundary
Compute Pixel Location
Compute Angles
Validate
Project