View In:
ArcGIS JavaScript
ArcGIS Online Map Viewer
ArcGIS Earth
Service Description: Images/Aerial_2021_TB
Name: Images/Aerial_2021_TB
Description:
Single Fused Map Cache: false
Extent:
XMin: 450734.5000000048
YMin: 1262664.0000013097
XMax: 579646.5000000048
YMax: 1400000.0000013097
Spatial Reference: 103023
(6443)
LatestVCSWkid(0)
Initial Extent:
XMin: 450734.5000000048
YMin: 1262664.0000013097
XMax: 579646.5000000048
YMax: 1400000.0000013097
Spatial Reference: 103023
(6443)
LatestVCSWkid(0)
Full Extent:
XMin: 450734.5000000048
YMin: 1262664.0000013097
XMax: 579646.5000000048
YMax: 1400000.0000013097
Spatial Reference: 103023
(6443)
LatestVCSWkid(0)
Pixel Size X: 2.0
Pixel Size Y: 2.0
Band Count: 4
Pixel Type: U8
RasterFunction Infos: {"rasterFunctionInfos": [{
"name": "None",
"description": "",
"help": ""
}]}
Mensuration Capabilities: Basic
Has Histograms: true
Has Colormap: false
Has Multi Dimensions : false
Rendering Rule:
Min Scale: 0
Max Scale: 0
Copyright Text:
Service Data Type: esriImageServiceDataTypeProcessed
Min Values: 0, 0, 0, 0
Max Values: 255, 255, 255, 255
Mean Values: 122.51979064783156, 123.30139601937438, 95.79399538142027, 244.99873422944316
Standard Deviation Values: 54.099194371386, 49.60566533721911, 49.53075320266854, 48.31280817313218
Object ID Field:
Fields:
None
Default Mosaic Method: Center
Allowed Mosaic Methods:
SortField:
SortValue: null
Mosaic Operator: First
Default Compression Quality: 75
Default Resampling Method: Bilinear
Max Record Count: null
Max Image Height: 4100
Max Image Width: 15000
Max Download Image Count: null
Max Mosaic Image Count: null
Allow Raster Function: true
Allow Copy: true
Allow Analysis: true
Allow Compute TiePoints: false
Supports Statistics: false
Supports Advanced Queries: false
Use StandardizedQueries: true
Raster Type Infos:
Name: Raster Dataset
Description: Supports all ArcGIS Raster Datasets
Help:
Has Raster Attribute Table: false
Edit Fields Info: null
Ownership Based AccessControl For Rasters: null
Child Resources:
Info
Histograms
Statistics
Key Properties
Legend
Raster Function Infos
Supported Operations:
Export Image
Identify
Measure
Compute Histograms
Compute Statistics Histograms
Get Samples
Compute Class Statistics
Query Boundary
Compute Pixel Location
Compute Angles
Validate
Project