View In:
ArcGIS JavaScript
ArcGIS Online Map Viewer
ArcGIS Earth
Service Description: Images/Aerials_1938_HC
Name: Images/Aerials_1938_HC
Description:
Single Fused Map Cache: false
Extent:
XMin: -9199187.52766466
YMin: 3224521.8655309626
XMax: -9154549.171729974
YMax: 3272445.168303613
Spatial Reference: 102100
(3857)
LatestVCSWkid(0)
Initial Extent:
XMin: -9199187.52766466
YMin: 3224521.8655309626
XMax: -9154549.171729974
YMax: 3272445.168303613
Spatial Reference: 102100
(3857)
LatestVCSWkid(0)
Full Extent:
XMin: -9199187.52766466
YMin: 3224521.8655309626
XMax: -9154549.171729974
YMax: 3272445.168303613
Spatial Reference: 102100
(3857)
LatestVCSWkid(0)
Pixel Size X: 2.5582185761181213
Pixel Size Y: 2.5580923867113534
Band Count: 3
Pixel Type: U8
RasterFunction Infos: {"rasterFunctionInfos": [{
"name": "None",
"description": "",
"help": ""
}]}
Mensuration Capabilities: Basic
Has Histograms: true
Has Colormap: false
Has Multi Dimensions : false
Rendering Rule:
Min Scale: 0
Max Scale: 0
Copyright Text:
Service Data Type: esriImageServiceDataTypeRGB
Min Values: 0, 0, 0
Max Values: 255, 255, 255
Mean Values: 81.62957813404176, 79.89866877855624, 81.6316390349394
Standard Deviation Values: 55.40982975884683, 55.04003416509458, 55.41019487153879
Object ID Field:
Fields:
None
Default Mosaic Method: Center
Allowed Mosaic Methods:
SortField:
SortValue: null
Mosaic Operator: First
Default Compression Quality: 75
Default Resampling Method: Bilinear
Max Record Count: null
Max Image Height: 4100
Max Image Width: 15000
Max Download Image Count: null
Max Mosaic Image Count: null
Allow Raster Function: true
Allow Copy: true
Allow Analysis: true
Allow Compute TiePoints: false
Supports Statistics: false
Supports Advanced Queries: false
Use StandardizedQueries: true
Raster Type Infos:
Name: Raster Dataset
Description: Supports all ArcGIS Raster Datasets
Help:
Has Raster Attribute Table: false
Edit Fields Info: null
Ownership Based AccessControl For Rasters: null
Child Resources:
Info
Histograms
Statistics
Key Properties
Legend
Raster Function Infos
Supported Operations:
Export Image
Identify
Measure
Compute Histograms
Compute Statistics Histograms
Get Samples
Compute Class Statistics
Query Boundary
Compute Pixel Location
Compute Angles
Validate
Project