View In:
ArcGIS JavaScript
ArcGIS Online Map Viewer
ArcGIS Earth
Service Description: Images/Aerials_1957_Tampa
Name: Images/Aerials_1957_Tampa
Description:
Single Fused Map Cache: false
Extent:
XMin: 460353.0657945335
YMin: 1272027.9692020605
XMax: 579803.8385895857
YMax: 1398538.6760820027
Spatial Reference: 0
(0)
LatestVCSWkid(0)
Initial Extent:
XMin: 460353.0657945335
YMin: 1272027.9692020605
XMax: 579803.8385895857
YMax: 1398538.6760820027
Spatial Reference: 0
(0)
LatestVCSWkid(0)
Full Extent:
XMin: 460353.0657945335
YMin: 1272027.9692020605
XMax: 579803.8385895857
YMax: 1398538.6760820027
Spatial Reference: 0
(0)
LatestVCSWkid(0)
Pixel Size X: 0.8197786906620105
Pixel Size Y: 0.8197786906678992
Band Count: 3
Pixel Type: U8
RasterFunction Infos: {"rasterFunctionInfos": [{
"name": "None",
"description": "",
"help": ""
}]}
Mensuration Capabilities: Basic
Has Histograms: true
Has Colormap: false
Has Multi Dimensions : false
Rendering Rule:
Min Scale: 0
Max Scale: 0
Copyright Text:
Service Data Type: esriImageServiceDataTypeRGB
Min Values: 0, 0, 0
Max Values: 255, 255, 255
Mean Values: 150.27599289550545, 150.27599289550545, 150.27599289550545
Standard Deviation Values: 51.075876319032425, 51.075876319032425, 51.075876319032425
Object ID Field:
Fields:
None
Default Mosaic Method: Center
Allowed Mosaic Methods:
SortField:
SortValue: null
Mosaic Operator: First
Default Compression Quality: 75
Default Resampling Method: Bilinear
Max Record Count: null
Max Image Height: 4100
Max Image Width: 15000
Max Download Image Count: null
Max Mosaic Image Count: null
Allow Raster Function: true
Allow Copy: true
Allow Analysis: true
Allow Compute TiePoints: false
Supports Statistics: false
Supports Advanced Queries: false
Use StandardizedQueries: true
Raster Type Infos:
Name: Raster Dataset
Description: Supports all ArcGIS Raster Datasets
Help:
Has Raster Attribute Table: false
Edit Fields Info: null
Ownership Based AccessControl For Rasters: null
Child Resources:
Info
Histograms
Statistics
Key Properties
Legend
Raster Function Infos
Supported Operations:
Export Image
Identify
Measure
Compute Histograms
Compute Statistics Histograms
Get Samples
Compute Class Statistics
Query Boundary
Compute Pixel Location
Compute Angles
Validate
Project