View In:
ArcGIS JavaScript
ArcGIS Online Map Viewer
ArcGIS Earth
Service Description: Images/Aerials_1984_Tampa
Name: Images/Aerials_1984_Tampa
Description:
Single Fused Map Cache: false
Extent:
XMin: 453759.29881313816
YMin: 1265517.7656669847
XMax: 579312.9570195887
YMax: 1410144.8051898142
Spatial Reference: 103023
(6443)
LatestVCSWkid(0)
Initial Extent:
XMin: 453759.29881313816
YMin: 1265517.7656669847
XMax: 579312.9570195887
YMax: 1410144.8051898142
Spatial Reference: 103023
(6443)
LatestVCSWkid(0)
Full Extent:
XMin: 453759.29881313816
YMin: 1265517.7656669847
XMax: 579312.9570195887
YMax: 1410144.8051898142
Spatial Reference: 103023
(6443)
LatestVCSWkid(0)
Pixel Size X: 1.157379248038371
Pixel Size Y: 1.157497835282113
Band Count: 1
Pixel Type: U8
RasterFunction Infos: {"rasterFunctionInfos": [{
"name": "None",
"description": "",
"help": ""
}]}
Mensuration Capabilities: Basic
Has Histograms: true
Has Colormap: false
Has Multi Dimensions : false
Rendering Rule:
Min Scale: 0
Max Scale: 0
Copyright Text:
Service Data Type: esriImageServiceDataTypeGeneric
Min Values: 0
Max Values: 255
Mean Values: 132.31531225756066
Standard Deviation Values: 54.34234976761326
Object ID Field:
Fields:
None
Default Mosaic Method: Center
Allowed Mosaic Methods:
SortField:
SortValue: null
Mosaic Operator: First
Default Compression Quality: 75
Default Resampling Method: Bilinear
Max Record Count: null
Max Image Height: 4100
Max Image Width: 15000
Max Download Image Count: null
Max Mosaic Image Count: null
Allow Raster Function: true
Allow Copy: true
Allow Analysis: true
Allow Compute TiePoints: false
Supports Statistics: false
Supports Advanced Queries: false
Use StandardizedQueries: true
Raster Type Infos:
Name: Raster Dataset
Description: Supports all ArcGIS Raster Datasets
Help:
Has Raster Attribute Table: false
Edit Fields Info: null
Ownership Based AccessControl For Rasters: null
Child Resources:
Info
Histograms
Statistics
Key Properties
Legend
Raster Function Infos
Supported Operations:
Export Image
Identify
Measure
Compute Histograms
Compute Statistics Histograms
Get Samples
Compute Class Statistics
Query Boundary
Compute Pixel Location
Compute Angles
Validate
Project