View In:
ArcGIS JavaScript
ArcGIS Online Map Viewer
ArcGIS Earth
Service Description: Images/Aerials_Summer2024_6IN
Name: Images/Aerials_Summer2024_6IN
Description:
Single Fused Map Cache: false
Extent:
XMin: 452734.75
YMin: 1264664.5
XMax: 577645.75
YMax: 1398398.0
Spatial Reference: 103023
(6443)
LatestVCSWkid(0)
Initial Extent:
XMin: 452734.75
YMin: 1264664.5
XMax: 577645.75
YMax: 1398398.0
Spatial Reference: 103023
(6443)
LatestVCSWkid(0)
Full Extent:
XMin: 452734.75
YMin: 1264664.5
XMax: 577645.75
YMax: 1398398.0
Spatial Reference: 103023
(6443)
LatestVCSWkid(0)
Pixel Size X: 0.5
Pixel Size Y: 0.5
Band Count: 4
Pixel Type: U8
RasterFunction Infos: {"rasterFunctionInfos": [{
"name": "None",
"description": "",
"help": ""
}]}
Mensuration Capabilities: Basic
Has Histograms: true
Has Colormap: false
Has Multi Dimensions : false
Rendering Rule:
Min Scale: 0
Max Scale: 0
Copyright Text:
Service Data Type: esriImageServiceDataTypeProcessed
Min Values: 0, 0, 0, 0
Max Values: 255, 255, 255, 255
Mean Values: 89.40369218370924, 94.39094603350647, 77.79944802329516, 227.22071054235508
Standard Deviation Values: 57.94283215985964, 55.26753219991017, 53.38756455432269, 79.44828436802332
Object ID Field:
Fields:
None
Default Mosaic Method: Center
Allowed Mosaic Methods:
SortField:
SortValue: null
Mosaic Operator: First
Default Compression Quality: 75
Default Resampling Method: Bilinear
Max Record Count: null
Max Image Height: 4100
Max Image Width: 15000
Max Download Image Count: null
Max Mosaic Image Count: null
Allow Raster Function: true
Allow Copy: true
Allow Analysis: true
Allow Compute TiePoints: false
Supports Statistics: false
Supports Advanced Queries: false
Use StandardizedQueries: true
Raster Type Infos:
Name: Raster Dataset
Description: Supports all ArcGIS Raster Datasets
Help:
Has Raster Attribute Table: false
Edit Fields Info: null
Ownership Based AccessControl For Rasters: null
Child Resources:
Info
Histograms
Statistics
Key Properties
Legend
Raster Function Infos
Supported Operations:
Export Image
Identify
Measure
Compute Histograms
Compute Statistics Histograms
Get Samples
Compute Class Statistics
Query Boundary
Compute Pixel Location
Compute Angles
Validate
Project