View In:
ArcGIS JavaScript
ArcGIS Online Map Viewer
ArcGIS Earth
Service Description: Images/ChlorophyllMonthly
Name: Images/ChlorophyllMonthly
Description:
Single Fused Map Cache: false
Extent:
XMin: -84.87500239859192
YMin: 25.083329873108205
XMax: -80.4166689392648
YMax: 28.666663257080415
Spatial Reference: 4326
(4326)
LatestVCSWkid(0)
Initial Extent:
XMin: -84.87500239859192
YMin: 25.083329873108205
XMax: -80.4166689392648
YMax: 28.666663257080415
Spatial Reference: 4326
(4326)
LatestVCSWkid(0)
Full Extent:
XMin: -84.87500239859192
YMin: 25.083329873108205
XMax: -80.4166689392648
YMax: 28.666663257080415
Spatial Reference: 4326
(4326)
LatestVCSWkid(0)
Pixel Size X: 0.04166666784417871
Pixel Size Y: 0.041666667255490814
Band Count: 1
Pixel Type: F32
RasterFunction Infos: {"rasterFunctionInfos": [{
"name": "None",
"description": "",
"help": ""
}]}
Mensuration Capabilities: Basic
Has Histograms: true
Has Colormap: false
Has Multi Dimensions : false
Rendering Rule:
Min Scale: 0
Max Scale: 0
Copyright Text:
Service Data Type: esriImageServiceDataTypeScientific
Min Values: 0.042305056005716324
Max Values: 77.3864974975586
Mean Values: 0.8532850783636844
Standard Deviation Values: 3.849557101213805
Object ID Field:
Fields:
None
Default Mosaic Method: Center
Allowed Mosaic Methods:
SortField:
SortValue: null
Mosaic Operator: First
Default Compression Quality: 75
Default Resampling Method: Bilinear
Max Record Count: null
Max Image Height: 4100
Max Image Width: 15000
Max Download Image Count: null
Max Mosaic Image Count: null
Allow Raster Function: true
Allow Copy: true
Allow Analysis: true
Allow Compute TiePoints: false
Supports Statistics: false
Supports Advanced Queries: false
Use StandardizedQueries: true
Raster Type Infos:
Name: Raster Dataset
Description: Supports all ArcGIS Raster Datasets
Help:
Has Raster Attribute Table: false
Edit Fields Info: null
Ownership Based AccessControl For Rasters: null
Child Resources:
Info
Histograms
Statistics
Key Properties
Legend
Raster Function Infos
Supported Operations:
Export Image
Identify
Measure
Compute Histograms
Compute Statistics Histograms
Get Samples
Compute Class Statistics
Query Boundary
Compute Pixel Location
Compute Angles
Validate
Project