View In:
ArcGIS JavaScript
ArcGIS Online Map Viewer
ArcGIS Earth
Service Description: Images/Chlorophyll_CCHNEP
Name: Images/Chlorophyll_CCHNEP
Description:
Single Fused Map Cache: false
Extent:
XMin: -9744952.0
YMin: 2932936.5
XMax: -8893186.0
YMax: 3784702.5
Spatial Reference: 102100
(3857)
LatestVCSWkid(0)
Initial Extent:
XMin: -9744952.0
YMin: 2932936.5
XMax: -8893186.0
YMax: 3784702.5
Spatial Reference: 102100
(3857)
LatestVCSWkid(0)
Full Extent:
XMin: -9744952.0
YMin: 2932936.5
XMax: -8893186.0
YMax: 3784702.5
Spatial Reference: 102100
(3857)
LatestVCSWkid(0)
Pixel Size X: 327.6023076923077
Pixel Size Y: 327.6023076923077
Band Count: 1
Pixel Type: F32
RasterFunction Infos: {"rasterFunctionInfos": [{
"name": "None",
"description": "",
"help": ""
}]}
Mensuration Capabilities: Basic
Has Histograms: true
Has Colormap: false
Has Multi Dimensions : false
Rendering Rule:
Min Scale: 0
Max Scale: 0
Copyright Text:
Service Data Type: esriImageServiceDataTypeGeneric
Min Values: 0
Max Values: 45.25687789917
Mean Values: 0.50478000671802
Standard Deviation Values: 2.0443190618265
Object ID Field:
Fields:
None
Default Mosaic Method: Center
Allowed Mosaic Methods:
SortField:
SortValue: null
Mosaic Operator: First
Default Compression Quality: 75
Default Resampling Method: Bilinear
Max Record Count: null
Max Image Height: 4100
Max Image Width: 15000
Max Download Image Count: null
Max Mosaic Image Count: null
Allow Raster Function: true
Allow Copy: true
Allow Analysis: true
Allow Compute TiePoints: false
Supports Statistics: false
Supports Advanced Queries: false
Use StandardizedQueries: true
Raster Type Infos:
Name: Raster Dataset
Description: Supports all ArcGIS Raster Datasets
Help:
Has Raster Attribute Table: false
Edit Fields Info: null
Ownership Based AccessControl For Rasters: null
Child Resources:
Info
Histograms
Statistics
Key Properties
Legend
Raster Function Infos
Supported Operations:
Export Image
Identify
Measure
Compute Histograms
Compute Statistics Histograms
Get Samples
Compute Class Statistics
Query Boundary
Compute Pixel Location
Compute Angles
Validate
Project