View In:
ArcGIS JavaScript
ArcGIS Online Map Viewer
ArcGIS Earth
Service Description: Images/HIL_LULCpiece
Name: Images/HIL_LULCpiece
Description:
Single Fused Map Cache: false
Extent:
XMin: -9144889.37055346
YMin: 3258877.124068364
XMax: -9134431.37055346
YMax: 3270637.124068364
Spatial Reference: 102100
(3857)
LatestVCSWkid(0)
Initial Extent:
XMin: -9144889.37055346
YMin: 3258877.124068364
XMax: -9134431.37055346
YMax: 3270637.124068364
Spatial Reference: 102100
(3857)
LatestVCSWkid(0)
Full Extent:
XMin: -9144889.37055346
YMin: 3258877.124068364
XMax: -9134431.37055346
YMax: 3270637.124068364
Spatial Reference: 102100
(3857)
LatestVCSWkid(0)
Pixel Size X: 42.0
Pixel Size Y: 42.0
Band Count: 1
Pixel Type: U16
RasterFunction Infos: {"rasterFunctionInfos": [{
"name": "None",
"description": "",
"help": ""
}]}
Mensuration Capabilities: Basic
Has Histograms: true
Has Colormap: false
Has Multi Dimensions : false
Rendering Rule:
Min Scale: 0
Max Scale: 0
Copyright Text:
Service Data Type: esriImageServiceDataTypeGeneric
Min Values: 1900
Max Values: 6440
Mean Values: 3453.0656951916812
Standard Deviation Values: 1867.658931067336
Object ID Field:
Fields:
None
Default Mosaic Method: Center
Allowed Mosaic Methods:
SortField:
SortValue: null
Mosaic Operator: First
Default Compression Quality: 75
Default Resampling Method: Bilinear
Max Record Count: null
Max Image Height: 4100
Max Image Width: 15000
Max Download Image Count: null
Max Mosaic Image Count: null
Allow Raster Function: true
Allow Copy: true
Allow Analysis: true
Allow Compute TiePoints: false
Supports Statistics: false
Supports Advanced Queries: false
Use StandardizedQueries: true
Raster Type Infos:
Name: Raster Dataset
Description: Supports all ArcGIS Raster Datasets
Help:
Has Raster Attribute Table: true
Edit Fields Info: null
Ownership Based AccessControl For Rasters: null
Child Resources:
Info
Raster Attribute Table
Histograms
Statistics
Key Properties
Legend
Raster Function Infos
Supported Operations:
Export Image
Identify
Measure
Compute Histograms
Compute Statistics Histograms
Get Samples
Compute Class Statistics
Query Boundary
Compute Pixel Location
Compute Angles
Validate
Project