View In:
ArcGIS JavaScript
ArcGIS Online Map Viewer
ArcGIS Earth
Service Description: Images/WI_Imagery_TBEP_194858_WEB
Name: Images/WI_Imagery_TBEP_194858_WEB
Description:
Single Fused Map Cache: false
Extent:
XMin: -9226294.218360249
YMin: 3166714.0194102847
XMax: -9112898.802980632
YMax: 3302879.7489898936
Spatial Reference: 102100
(3857)
LatestVCSWkid(0)
Initial Extent:
XMin: -9226294.218360249
YMin: 3166714.0194102847
XMax: -9112898.802980632
YMax: 3302879.7489898936
Spatial Reference: 102100
(3857)
LatestVCSWkid(0)
Full Extent:
XMin: -9226294.218360249
YMin: 3166714.0194102847
XMax: -9112898.802980632
YMax: 3302879.7489898936
Spatial Reference: 102100
(3857)
LatestVCSWkid(0)
Pixel Size X: 0.8723059762269115
Pixel Size Y: 0.8672755444422364
Band Count: 1
Pixel Type: U8
RasterFunction Infos: {"rasterFunctionInfos": [{
"name": "None",
"description": "",
"help": ""
}]}
Mensuration Capabilities: Basic
Has Histograms: true
Has Colormap: false
Has Multi Dimensions : false
Rendering Rule:
Min Scale: 0
Max Scale: 0
Copyright Text:
Service Data Type: esriImageServiceDataTypeGeneric
Min Values: 0
Max Values: 254
Mean Values: 146.95129795198713
Standard Deviation Values: 36.69246029931122
Object ID Field:
Fields:
None
Default Mosaic Method: Center
Allowed Mosaic Methods:
SortField:
SortValue: null
Mosaic Operator: First
Default Compression Quality: 75
Default Resampling Method: Bilinear
Max Record Count: null
Max Image Height: 4100
Max Image Width: 15000
Max Download Image Count: null
Max Mosaic Image Count: null
Allow Raster Function: true
Allow Copy: true
Allow Analysis: true
Allow Compute TiePoints: false
Supports Statistics: false
Supports Advanced Queries: false
Use StandardizedQueries: true
Raster Type Infos:
Name: Raster Dataset
Description: Supports all ArcGIS Raster Datasets
Help:
Has Raster Attribute Table: false
Edit Fields Info: null
Ownership Based AccessControl For Rasters: null
Child Resources:
Info
Histograms
Statistics
Key Properties
Legend
Raster Function Infos
Supported Operations:
Export Image
Identify
Measure
Compute Histograms
Compute Statistics Histograms
Get Samples
Compute Class Statistics
Query Boundary
Compute Pixel Location
Compute Angles
Validate
Project