View In:
ArcGIS JavaScript
ArcGIS Online Map Viewer
ArcGIS Earth
Service Description: Images/Aerial_2006_TB
Name: Images/Aerial_2006_TB
Description:
Single Fused Map Cache: false
Extent:
XMin: -9195731.261702804
YMin: 3226274.323545807
XMax: -9154549.179276044
YMax: 3272443.4159541684
Spatial Reference: 102100
(3857)
LatestVCSWkid(0)
Initial Extent:
XMin: -9195731.261702804
YMin: 3226274.323545807
XMax: -9154549.179276044
YMax: 3272443.4159541684
Spatial Reference: 102100
(3857)
LatestVCSWkid(0)
Full Extent:
XMin: -9195731.261702804
YMin: 3226274.323545807
XMax: -9154549.179276044
YMax: 3272443.4159541684
Spatial Reference: 102100
(3857)
LatestVCSWkid(0)
Pixel Size X: 1.0000020015239752
Pixel Size Y: 1.000002001523996
Band Count: 4
Pixel Type: F32
RasterFunction Infos: {"rasterFunctionInfos": [{
"name": "None",
"description": "",
"help": ""
}]}
Mensuration Capabilities: Basic
Has Histograms: true
Has Colormap: false
Has Multi Dimensions : false
Rendering Rule:
Min Scale: 0
Max Scale: 0
Copyright Text:
Service Data Type: esriImageServiceDataTypeGeneric
Min Values: 0, 0, 0, 0
Max Values: 2139, 2536, 2262, 2911
Mean Values: 388.1836814954336, 433.7128382008853, 335.720099155086, 569.0639788744062
Standard Deviation Values: 139.41998387443542, 194.2468353215682, 209.52638046332987, 321.69622766307845
Object ID Field:
Fields:
None
Default Mosaic Method: Center
Allowed Mosaic Methods:
SortField:
SortValue: null
Mosaic Operator: First
Default Compression Quality: 75
Default Resampling Method: Bilinear
Max Record Count: null
Max Image Height: 4100
Max Image Width: 15000
Max Download Image Count: null
Max Mosaic Image Count: null
Allow Raster Function: true
Allow Copy: true
Allow Analysis: true
Allow Compute TiePoints: false
Supports Statistics: false
Supports Advanced Queries: false
Use StandardizedQueries: true
Raster Type Infos:
Name: Raster Dataset
Description: Supports all ArcGIS Raster Datasets
Help:
Has Raster Attribute Table: false
Edit Fields Info: null
Ownership Based AccessControl For Rasters: null
Child Resources:
Info
Histograms
Statistics
Key Properties
Legend
Raster Function Infos
Supported Operations:
Export Image
Identify
Measure
Compute Histograms
Compute Statistics Histograms
Get Samples
Compute Class Statistics
Query Boundary
Compute Pixel Location
Compute Angles
Validate
Project