View In:
ArcGIS JavaScript
ArcGIS Online Map Viewer
ArcGIS Earth
Service Description: Images/Aerials_1965_Tampa
Name: Images/Aerials_1965_Tampa
Description:
Single Fused Map Cache: false
Extent:
XMin: 465840.94770629035
YMin: 1261983.072906722
XMax: 587745.1018800666
YMax: 1406834.9455229894
Spatial Reference: 103023
(6443)
LatestVCSWkid(0)
Initial Extent:
XMin: 465840.94770629035
YMin: 1261983.072906722
XMax: 587745.1018800666
YMax: 1406834.9455229894
Spatial Reference: 103023
(6443)
LatestVCSWkid(0)
Full Extent:
XMin: 465840.94770629035
YMin: 1261983.072906722
XMax: 587745.1018800666
YMax: 1406834.9455229894
Spatial Reference: 103023
(6443)
LatestVCSWkid(0)
Pixel Size X: 1.1196399104849117
Pixel Size Y: 1.1283319645751755
Band Count: 1
Pixel Type: U8
RasterFunction Infos: {"rasterFunctionInfos": [{
"name": "None",
"description": "",
"help": ""
}]}
Mensuration Capabilities: Basic
Has Histograms: true
Has Colormap: false
Has Multi Dimensions : false
Rendering Rule:
Min Scale: 0
Max Scale: 0
Copyright Text:
Service Data Type: esriImageServiceDataTypeGeneric
Min Values: 0
Max Values: 255
Mean Values: 107.37636867101598
Standard Deviation Values: 47.25074427656672
Object ID Field:
Fields:
None
Default Mosaic Method: Center
Allowed Mosaic Methods:
SortField:
SortValue: null
Mosaic Operator: First
Default Compression Quality: 75
Default Resampling Method: Bilinear
Max Record Count: null
Max Image Height: 4100
Max Image Width: 15000
Max Download Image Count: null
Max Mosaic Image Count: null
Allow Raster Function: true
Allow Copy: true
Allow Analysis: true
Allow Compute TiePoints: false
Supports Statistics: false
Supports Advanced Queries: false
Use StandardizedQueries: true
Raster Type Infos:
Name: Raster Dataset
Description: Supports all ArcGIS Raster Datasets
Help:
Has Raster Attribute Table: false
Edit Fields Info: null
Ownership Based AccessControl For Rasters: null
Child Resources:
Info
Histograms
Statistics
Key Properties
Legend
Raster Function Infos
Supported Operations:
Export Image
Identify
Measure
Compute Histograms
Compute Statistics Histograms
Get Samples
Compute Class Statistics
Query Boundary
Compute Pixel Location
Compute Angles
Validate
Project