View In:
ArcGIS JavaScript
ArcGIS Online Map Viewer
ArcGIS Earth
Service Description: Images/WI_Imagery_HILLSBOROUGH_AERIALS_1948
Name: Images/WI_Imagery_HILLSBOROUGH_AERIALS_1948
Description:
Single Fused Map Cache: false
Extent:
XMin: 437935.50538487
YMin: 1191282.8121847543
XMax: 648533.5612810901
YMax: 1407678.7334743408
Spatial Reference: 102659
(2237)
LatestVCSWkid(0)
Initial Extent:
XMin: 437935.50538487
YMin: 1191282.8121847543
XMax: 648533.5612810901
YMax: 1407678.7334743408
Spatial Reference: 102659
(2237)
LatestVCSWkid(0)
Full Extent:
XMin: 437935.50538487
YMin: 1191282.8121847543
XMax: 648533.5612810901
YMax: 1407678.7334743408
Spatial Reference: 102659
(2237)
LatestVCSWkid(0)
Pixel Size X: 5.971025117556568
Pixel Size Y: 5.97102511767298
Band Count: 1
Pixel Type: U8
RasterFunction Infos: {"rasterFunctionInfos": [{
"name": "None",
"description": "",
"help": ""
}]}
Mensuration Capabilities: Basic
Has Histograms: true
Has Colormap: false
Has Multi Dimensions : false
Rendering Rule:
Min Scale: 0
Max Scale: 0
Copyright Text:
Service Data Type: esriImageServiceDataTypeGeneric
Min Values: 0
Max Values: 255
Mean Values: 108.99826003215547
Standard Deviation Values: 34.01206876681189
Object ID Field:
Fields:
None
Default Mosaic Method: Center
Allowed Mosaic Methods:
SortField:
SortValue: null
Mosaic Operator: First
Default Compression Quality: 75
Default Resampling Method: Bilinear
Max Record Count: null
Max Image Height: 4100
Max Image Width: 15000
Max Download Image Count: null
Max Mosaic Image Count: null
Allow Raster Function: true
Allow Copy: true
Allow Analysis: true
Allow Compute TiePoints: false
Supports Statistics: false
Supports Advanced Queries: false
Use StandardizedQueries: true
Raster Type Infos:
Name: Raster Dataset
Description: Supports all ArcGIS Raster Datasets
Help:
Has Raster Attribute Table: true
Edit Fields Info: null
Ownership Based AccessControl For Rasters: null
Child Resources:
Info
Raster Attribute Table
Histograms
Statistics
Key Properties
Legend
Raster Function Infos
Supported Operations:
Export Image
Identify
Measure
Compute Histograms
Compute Statistics Histograms
Get Samples
Compute Class Statistics
Query Boundary
Compute Pixel Location
Compute Angles
Validate
Project